BEGIN:VCALENDAR
VERSION:2.0
PRODID:-//103.9 MAX FM - ECPv4.6.26//NONSGML v1.0//EN
CALSCALE:GREGORIAN
METHOD:PUBLISH
X-WR-CALNAME:103.9 MAX FM
X-ORIGINAL-URL:https://1039maxfm.com
X-WR-CALDESC:Events for 103.9 MAX FM
BEGIN:VEVENT
DTSTART;VALUE=DATE:20210909
DTEND;VALUE=DATE:20210910
DTSTAMP:20260425T103118
CREATED:20200906T194205Z
LAST-MODIFIED:20210127T133923Z
UID:12670-1631145600-1631231999@1039maxfm.com
SUMMARY:Album - IMAGINE (JOHN LENNON)
DESCRIPTION:Imagine is the second studio album by English musician John Lennon\, released on 9 September 1971 by Apple Records. Co-produced by Lennon\, his wife Yoko Ono and Phil Spector\, the album’s lush sound contrasts the basic\, small-group arrangements of his first album. \nThe opening title track is widely considered to be his signature song. \nImagine was a critical and commercial success\, peaking at number one on both sides of the Atlantic. It is considered one of Lennon’s finest solo albums. \nIn 2012\, the album was voted 80th on Rolling Stone magazine’s list of the 500 Greatest Albums of All Time. \n
URL:https://1039maxfm.com/event/album-imagine-john-lennon/
CATEGORIES:Album
ATTACH;FMTTYPE=image/png:https://1039maxfm.com/wp-content/uploads/sites/8/2021/01/you-may-say-im-a-dreamer-john-lennon-imagine-album-cover-1156306401239snpddgla.png
END:VEVENT
END:VCALENDAR