BEGIN:VCALENDAR
VERSION:2.0
PRODID:-//103.9 MAX FM - ECPv4.6.26//NONSGML v1.0//EN
CALSCALE:GREGORIAN
METHOD:PUBLISH
X-WR-CALNAME:103.9 MAX FM
X-ORIGINAL-URL:https://1039maxfm.com
X-WR-CALDESC:Events for 103.9 MAX FM
BEGIN:VEVENT
DTSTART;VALUE=DATE:20210826
DTEND;VALUE=DATE:20210827
DTSTAMP:20260424T084015
CREATED:20200818T110646Z
LAST-MODIFIED:20210111T164635Z
UID:12547-1629936000-1630022399@1039maxfm.com
SUMMARY:INTERNATIONAL DOG DAY
DESCRIPTION:International Dog Day serves to raise awareness of the thousands of dogs that need to be rescued and encourages appreciation for family dogs and working dogs\, such as bomb dogs\, service dogs\, rescue dogs and law enforcement dogs. \nDogs are owned by many families\, however many other dogs are homeless or have been abandoned. Every year\, these dogs are taken into shelters. \nOnly 35% of shelter dogs are adopted\, 26% are returned to their owners and 31% are euthanized. \n
URL:https://1039maxfm.com/event/international-dog-day/
CATEGORIES:Observances
ATTACH;FMTTYPE=image/jpeg:https://1039maxfm.com/wp-content/uploads/sites/8/2021/01/9fb2531456f5baec1620a4ccb7071ea3.jpg
END:VEVENT
BEGIN:VEVENT
DTSTART;TZID=America/Halifax:20210826T210000
DTEND;TZID=America/Halifax:20210826T220000
DTSTAMP:20260424T084015
CREATED:20210817T131715Z
LAST-MODIFIED:20210823T094419Z
UID:13351-1630011600-1630015200@1039maxfm.com
SUMMARY:Classic Albums Top To Bottom - FULL MOON FEVER (TOM PETTY)
DESCRIPTION:Fresh from his work with the Travelling Wilburys\, Tom Petty invited a few of his new “friends” to join the Heartbreakers in the recording studio. \nThe result is one of his most groundbreaking and successful albums \nFULL MOON FEVER \nHear this classic album from start to finish \nTonight at 9:00 \n
URL:https://1039maxfm.com/event/classic-albums-top-to-bottom-full-moon-fever-tom-petty/
CATEGORIES:Album
ATTACH;FMTTYPE=image/jpeg:https://1039maxfm.com/wp-content/uploads/sites/8/2021/08/tom-petty-autographed-full-moon-fever_1_fde31b75e90b2226267e341e32849bdf.jpg
END:VEVENT
END:VCALENDAR