BEGIN:VCALENDAR
VERSION:2.0
PRODID:-//103.9 MAX FM - ECPv4.6.26//NONSGML v1.0//EN
CALSCALE:GREGORIAN
METHOD:PUBLISH
X-WR-CALNAME:103.9 MAX FM
X-ORIGINAL-URL:https://1039maxfm.com
X-WR-CALDESC:Events for 103.9 MAX FM
BEGIN:VEVENT
DTSTART;TZID=America/Halifax:20191110T100000
DTEND;TZID=America/Halifax:20191110T180000
DTSTAMP:20260420T114953
CREATED:20191023T131555Z
LAST-MODIFIED:20191023T131555Z
UID:10050-1573380000-1573408800@1039maxfm.com
SUMMARY:Merry Geekmas 2019
DESCRIPTION:Come out for some geeky holiday fun and get in the festive spirit with Merry Geekmas! There’s a geeky bazaar\, costume contest\, special guests and so much more! Admission is only $5! \n
URL:https://1039maxfm.com/event/merry-geekmas-2019/
LOCATION:Crowne Plaza\, Moncton\, New Brunswick\, Canada
CATEGORIES:Charity Events,Community,Family Events,For Kids
ATTACH;FMTTYPE=image/png:https://1039maxfm.com/wp-content/uploads/sites/8/2019/10/Geekmas-flyer-1.png
END:VEVENT
BEGIN:VEVENT
DTSTART;TZID=America/Halifax:20191110T160000
DTEND;TZID=America/Halifax:20191110T190000
DTSTAMP:20260420T114953
CREATED:20190930T140119Z
LAST-MODIFIED:20190930T140119Z
UID:9805-1573401600-1573412400@1039maxfm.com
SUMMARY:Wildcats vs. Acadie-Bathurst
DESCRIPTION:Tickets available through ticketmaster.ca // Billets disponibles sur ticketmaster.ca \n
URL:https://1039maxfm.com/event/wildcats-vs-acadie-bathurst-2/
LOCATION:New Brunswick
CATEGORIES:Community,Sporting Events
ATTACH;FMTTYPE=image/png:https://1039maxfm.com/wp-content/uploads/sites/8/2019/09/wildcats.png
END:VEVENT
END:VCALENDAR