BEGIN:VCALENDAR
VERSION:2.0
PRODID:-//103.9 MAX FM - ECPv4.6.26//NONSGML v1.0//EN
CALSCALE:GREGORIAN
METHOD:PUBLISH
X-WR-CALNAME:103.9 MAX FM
X-ORIGINAL-URL:https://1039maxfm.com
X-WR-CALDESC:Events for 103.9 MAX FM
BEGIN:VEVENT
DTSTART;TZID=America/Halifax:20190614T213000
DTEND;TZID=America/Halifax:20190616T233000
DTSTAMP:20260420T220505
CREATED:20190612T193431Z
LAST-MODIFIED:20190612T193810Z
UID:9017-1560547800-1560727800@1039maxfm.com
SUMMARY:Neptune Drive-In
DESCRIPTION:Showing at the Neptune Drive-In this weekend ( June 14-16): \nRocketman\, Rated R \nBooksmart\, Rated R \nBox office opens at 8pm and showtime is approximately 9:45pm \nSee their Facebook page and Twitter for more info! \n
URL:https://1039maxfm.com/event/neptune-drive-in-3/
END:VEVENT
BEGIN:VEVENT
DTSTART;TZID=America/Halifax:20190615T070000
DTEND;TZID=America/Halifax:20190615T200000
DTSTAMP:20260420T220505
CREATED:20190606T131406Z
LAST-MODIFIED:20190606T131406Z
UID:8902-1560582000-1560628800@1039maxfm.com
SUMMARY:YMCA Healthy Kids Day
DESCRIPTION:Come to our 9th annual Healthy Kids Day & Open House! \nGet ready for family fun! From 10 a.m. to 1 p.m. Saturday\, June 15th\, we’re hosting our 9th annual Healthy Kids Day & Open House! There will be TONS of free activities indoors and outdoors the Y\, located at 30 War Veterans Ave.\, and a free barbeque. \nWhen children arrive at Healthy Kids Day and register\, they will receive a map of various stations they can visit as well as a ‘passport’ to have stamped. When the passport is complete\, they can enter a draw for prizes. The first 500 children to register will receive a YMCA tote bag. Other giveaways will take place throughout the event. \nThere will also be an all-day Open House\, with our facilities open to the public free of charge from 7 a.m. to 8 p.m. on June 15th. Non-members will be welcome to try group fitness classes\, use equipment in the Fitness Centre\, make use of the Y’s three pools and tour the facility. (A government-issued photo ID will be required for non-members.) \n
URL:https://1039maxfm.com/event/ymca-healthy-kids-day/
LOCATION:Do you use public Wi-Fi?
CATEGORIES:Community,For Kids
ATTACH;FMTTYPE=image/jpeg:https://1039maxfm.com/wp-content/uploads/sites/8/2019/06/HKD-poster-EN.jpg
END:VEVENT
BEGIN:VEVENT
DTSTART;TZID=America/Halifax:20190615T070000
DTEND;TZID=America/Halifax:20190615T100000
DTSTAMP:20260420T220505
CREATED:20190613T125120Z
LAST-MODIFIED:20190613T125120Z
UID:9022-1560582000-1560592800@1039maxfm.com
SUMMARY:All-You-Can-Eat Pancake Breakfast
DESCRIPTION:The Salisbury Lions Club will be having an all-you-can-eat pancake breakfast on Saturday\, June 15th from 7-10am at 63 Peter St. The menu will consist of pancakes\, sausages\, pure maple syrup\, donuts\, muffins\, coffee\, tea and juice. Cost is $8 for Adults\, $3 for Children ages 6-10 and FREE for Pre-School. All proceeds are for community work. \n
URL:https://1039maxfm.com/event/all-you-can-eat-pancake-breakfast-23/
END:VEVENT
BEGIN:VEVENT
DTSTART;TZID=America/Halifax:20190615T110000
DTEND;TZID=America/Halifax:20190615T170000
DTSTAMP:20260420T220505
CREATED:20190508T131141Z
LAST-MODIFIED:20190508T131141Z
UID:8590-1560596400-1560618000@1039maxfm.com
SUMMARY:National Ride for Dad
DESCRIPTION:The Dunkirk Unit of Canadian Army Veterans is again hosting a motorcycle ride to support National Ride For Dad collecting funds to support Prostate Cancer Research and Education. This event will be held on Saturday\, June 15th starting at Sobeys Mountain Rd. (11:00am) going to Miramichi and back along the coast finishing at Sobeys on Elmwood Drive. Free registration with $100 or more raised in pledges. \nPre-register online at: http://ridefordad.ca or at Sobeys from 9-10:45 \n
URL:https://1039maxfm.com/event/national-ride-for-dad/
END:VEVENT
BEGIN:VEVENT
DTSTART;TZID=America/Halifax:20190615T110000
DTEND;TZID=America/Halifax:20190615T160000
DTSTAMP:20260420T220505
CREATED:20190613T190627Z
LAST-MODIFIED:20190613T190627Z
UID:9030-1560596400-1560614400@1039maxfm.com
SUMMARY:Wishmaker Mini Putt
DESCRIPTION:The Scotia Wealth Management Downtown Wishmaker Mini Putt will be taking place on Saturday\, June 15th. Enjoy a fun filled day putting your way through downtown Moncton and support a great cause. Teams will receive 2 for 1 drink tickets with some businesses giving away free snacks and beverages too. Registration will be from 11am-12pm @ Delta Beausejour with Tee-Off happening at 12pm. $240 minimum pledge required per team. At 4pm\, prizes and awards will be at the Old Triangle Irish Alehouse. \n
URL:https://1039maxfm.com/event/wishmaker-mini-putt/
END:VEVENT
END:VCALENDAR