BEGIN:VCALENDAR
VERSION:2.0
PRODID:-//103.9 MAX FM - ECPv4.6.26//NONSGML v1.0//EN
CALSCALE:GREGORIAN
METHOD:PUBLISH
X-WR-CALNAME:103.9 MAX FM
X-ORIGINAL-URL:https://1039maxfm.com
X-WR-CALDESC:Events for 103.9 MAX FM
BEGIN:VEVENT
DTSTART;TZID=America/Halifax:20190519T080000
DTEND;TZID=America/Halifax:20190519T150000
DTSTAMP:20260420T112727
CREATED:20190508T114834Z
LAST-MODIFIED:20190510T130950Z
UID:8584-1558252800-1558278000@1039maxfm.com
SUMMARY:Hopewell Rocks Multi-terrain Race 2019
DESCRIPTION:Join us for the 5th year of the Hopewell Rocks Multi-terrain 9k! For 2019\, the race will be run on a slightly different route to take in the main beach section first before heading onto the trails and roads. This is so  the race fits within the tide schedule. It will also offer all the great features that our athletes have loved over the last few years. \nRegistration is available leading up to\, and on the day of the race. \nRegistration (on day of) 8:00am – 9:00am \nRace start time: 9:30am \nPumphouse Brewery has also provided beverages (19+). \n
URL:https://1039maxfm.com/event/hopewell-rocks-multi-terrain-9k-race-2019/
CATEGORIES:Community
ATTACH;FMTTYPE=image/jpeg:https://1039maxfm.com/wp-content/uploads/sites/8/2019/05/IMG_20190505_173643.jpg
END:VEVENT
BEGIN:VEVENT
DTSTART;TZID=America/Halifax:20190519T140000
DTEND;TZID=America/Halifax:20190519T160000
DTSTAMP:20260420T112728
CREATED:20190510T135842Z
LAST-MODIFIED:20190510T135842Z
UID:8655-1558274400-1558281600@1039maxfm.com
SUMMARY:Moncton Fisher Cats
DESCRIPTION:Fisher Cats Vs. Fredericton today @ 2:00pm at Kiwanis Park \nSee their Facebook page and Twitter for more info! \n \n
URL:https://1039maxfm.com/event/moncton-fisher-cats-17/
END:VEVENT
END:VCALENDAR