BEGIN:VCALENDAR
VERSION:2.0
PRODID:-//103.9 MAX FM - ECPv4.6.26//NONSGML v1.0//EN
CALSCALE:GREGORIAN
METHOD:PUBLISH
X-WR-CALNAME:103.9 MAX FM
X-ORIGINAL-URL:https://1039maxfm.com
X-WR-CALDESC:Events for 103.9 MAX FM
BEGIN:VEVENT
DTSTART;TZID=America/Halifax:20190131T183000
DTEND;TZID=America/Halifax:20190131T203000
DTSTAMP:20260423T205752
CREATED:20190122T130614Z
LAST-MODIFIED:20190122T130614Z
UID:7755-1548959400-1548966600@1039maxfm.com
SUMMARY:MHS Musical- Where I've Been
DESCRIPTION:Moncton High will be presenting the Musical Production- Where I’ve Been\, an original script by D. Pellerin and student editor Robyn Santos-Hufana with classic rock hits featuring the MHS rock band. Showtimes are at 6:30pm at MHS on Thursday\, January 31st & Saturday\, February 2nd. Doors open @ 6pm and tickets are $10 for Adults/$5 for Students. \n
URL:https://1039maxfm.com/event/mhs-musical-where-ive-been/
END:VEVENT
END:VCALENDAR