BEGIN:VCALENDAR
VERSION:2.0
PRODID:-//103.9 MAX FM - ECPv4.6.26//NONSGML v1.0//EN
CALSCALE:GREGORIAN
METHOD:PUBLISH
X-WR-CALNAME:103.9 MAX FM
X-ORIGINAL-URL:https://1039maxfm.com
X-WR-CALDESC:Events for 103.9 MAX FM
BEGIN:VEVENT
DTSTART;TZID=America/Halifax:20180921T200000
DTEND;TZID=America/Halifax:20180923T230000
DTSTAMP:20260424T050454
CREATED:20180918T120139Z
LAST-MODIFIED:20180918T120139Z
UID:7000-1537560000-1537743600@1039maxfm.com
SUMMARY:Neptune Drive-In Showtimes
DESCRIPTION:Showing at the Neptune Drive-In this weekend (Sept. 21-23): \nA Simple Favor\, Rated 14A \nSearching\, Rated PG \nShowtime is approximately 8pm \nYou can now purchase tickets online! \nPlease see their Twitter and Facebook for more info \n \n
URL:https://1039maxfm.com/event/neptune-drive-in-showtimes-32/
END:VEVENT
BEGIN:VEVENT
DTSTART;TZID=America/Halifax:20180923T093000
DTEND;TZID=America/Halifax:20180923T150000
DTSTAMP:20260424T050454
CREATED:20180828T183648Z
LAST-MODIFIED:20180828T183648Z
UID:6729-1537695000-1537714800@1039maxfm.com
SUMMARY:APEGNB Soapbox Derby
DESCRIPTION:103.9 MAX FM is a proud sponsor of the 8th annual APEGNB Soapbox Derby happening Sunday\, September 23rd from 9:30am – 3pm (on St. George Blvd between Dickson and the fire station on Milner)! \nParticipants as young as 7 years old can take part in the Non-Official Wheels\, Official Wheels or Open Category! \nParticipation is free so get involved and build your own Soapbox as a family! \nContact them on Facebook or at SoapboxMonctonTacots@gmail.com for more info and to register. \nThe Association of Professional Engineers & Geoscientists NB Moncton Branch & the City of Moncton are proud to host the 8th annual event. \n
URL:https://1039maxfm.com/event/apegnb-soapbox-derby/
ATTACH;FMTTYPE=image/jpeg:https://1039maxfm.com/wp-content/uploads/sites/8/2018/08/SoapboxDerbyMAX.jpg
END:VEVENT
END:VCALENDAR