BEGIN:VCALENDAR
VERSION:2.0
PRODID:-//103.9 MAX FM - ECPv4.6.26//NONSGML v1.0//EN
CALSCALE:GREGORIAN
METHOD:PUBLISH
X-WR-CALNAME:103.9 MAX FM
X-ORIGINAL-URL:https://1039maxfm.com
X-WR-CALDESC:Events for 103.9 MAX FM
BEGIN:VEVENT
DTSTART;TZID=America/Halifax:20180921T200000
DTEND;TZID=America/Halifax:20180923T230000
DTSTAMP:20260424T031932
CREATED:20180918T120139Z
LAST-MODIFIED:20180918T120139Z
UID:7000-1537560000-1537743600@1039maxfm.com
SUMMARY:Neptune Drive-In Showtimes
DESCRIPTION:Showing at the Neptune Drive-In this weekend (Sept. 21-23): \nA Simple Favor\, Rated 14A \nSearching\, Rated PG \nShowtime is approximately 8pm \nYou can now purchase tickets online! \nPlease see their Twitter and Facebook for more info \n \n
URL:https://1039maxfm.com/event/neptune-drive-in-showtimes-32/
END:VEVENT
BEGIN:VEVENT
DTSTART;TZID=America/Halifax:20180922T110000
DTEND;TZID=America/Halifax:20180922T160000
DTSTAMP:20260424T031932
CREATED:20180828T152619Z
LAST-MODIFIED:20180828T154903Z
UID:6721-1537614000-1537632000@1039maxfm.com
SUMMARY:2018 Touch-A-Truck
DESCRIPTION:103.9 MAX FM is a proud sponsor of Touch-A-Truck happening September 22nd at the Moncton Coliseum parking lot from 11am – 4pm all in support of JDRF! \nExplore over 100 vehicles (construction\, transportation\, farming\, military\, emergency response and more)! \nThere will also be onsite food vendors\, demonstrations and activities! \nTouch-A-Truck is presented by Host Management and sponsored by Armour Transportation Systems\, JDRF and 103.9 MAX FM. \n
URL:https://1039maxfm.com/event/touch-a-truck-3/
ATTACH;FMTTYPE=image/jpeg:https://1039maxfm.com/wp-content/uploads/sites/8/2018/08/TouchATruckMAX.jpg
END:VEVENT
BEGIN:VEVENT
DTSTART;TZID=America/Halifax:20180922T130000
DTEND;TZID=America/Halifax:20180922T160000
DTSTAMP:20260424T031932
CREATED:20180917T151133Z
LAST-MODIFIED:20180917T151133Z
UID:6993-1537621200-1537632000@1039maxfm.com
SUMMARY:Block Party in Sussex
DESCRIPTION:There will be a Block Party in Sussex on Saturday\, September 22nd from 1-4pm at 24 Church Avenue. There will be a FREE BBQ\, giant inflatables\, carnival games and community fun for the whole family! \n
URL:https://1039maxfm.com/event/block-party-in-sussex/
END:VEVENT
END:VCALENDAR