BEGIN:VCALENDAR
VERSION:2.0
PRODID:-//103.9 MAX FM - ECPv4.6.26//NONSGML v1.0//EN
CALSCALE:GREGORIAN
METHOD:PUBLISH
X-WR-CALNAME:103.9 MAX FM
X-ORIGINAL-URL:https://1039maxfm.com
X-WR-CALDESC:Events for 103.9 MAX FM
BEGIN:VEVENT
DTSTART;TZID=America/Halifax:20180914T200000
DTEND;TZID=America/Halifax:20180916T220000
DTSTAMP:20260423T152716
CREATED:20180911T125034Z
LAST-MODIFIED:20180911T125034Z
UID:6936-1536955200-1537135200@1039maxfm.com
SUMMARY:Neptune Drive-In Showtimes
DESCRIPTION:Showing this weekend at the Neptune Drive-In (Sept. 14-16): \nThe Nun\, Rated 14A \nCrazy Rich Asians\, Rated PG \nShowtime is approximately 8pm \nYou can now purchase tickets online! \nPlease see their Twitter and Facebook page for more info \n \n
URL:https://1039maxfm.com/event/neptune-drive-in-showtimes-31/
END:VEVENT
BEGIN:VEVENT
DTSTART;TZID=America/Halifax:20180915T070000
DTEND;TZID=America/Halifax:20180915T170000
DTSTAMP:20260423T152716
CREATED:20180828T151529Z
LAST-MODIFIED:20180828T155424Z
UID:6718-1536994800-1537030800@1039maxfm.com
SUMMARY:2018 The Drive
DESCRIPTION:Calling all car enthusiasts! \n103.9 MAX FM is a very proud sponsor of The Drive happening September 15th beginning at Audi Moncton at 7am! \nThe Drive appeals to all enthusiasts in Greater Moncton and surrounding areas all in support of the CHU Dumont Foundation at the Dr. Georges L. Dumont University Hospital Centre! \nParticipants will have the pleasure of driving together in luxury cards for an entire day while making a few stops along the way! \nRegister today at the Dr. Georges L. Dumont University Hospital Centre or by calling 862-7595. \n
URL:https://1039maxfm.com/event/the-drive-2/
ATTACH;FMTTYPE=image/png:https://1039maxfm.com/wp-content/uploads/sites/8/2018/08/TheDrive_MAX.png
END:VEVENT
BEGIN:VEVENT
DTSTART;TZID=America/Halifax:20180915T070000
DTEND;TZID=America/Halifax:20180915T100000
DTSTAMP:20260423T152716
CREATED:20180904T131659Z
LAST-MODIFIED:20180904T131659Z
UID:6790-1536994800-1537005600@1039maxfm.com
SUMMARY:All-You-Can-Eat Pancake Breakfast
DESCRIPTION:The Salisbury Lions Club will be having an all-you-can-eat pancake breakfast on Saturday\, September 15th from 7-10am at the Salisbury Lions Club\, 63 Peter St. in Salisbury. The menu will consist of pancakes\, sausages\, pure maple syrup\, donuts\, muffins\, coffee\, tea and juice. Cost is $8 for Adults\, $3 for Children ages 6-10 and FREE for Pre-School. All proceeds are for community work. \n
URL:https://1039maxfm.com/event/all-you-can-eat-pancake-breakfast-16/
END:VEVENT
BEGIN:VEVENT
DTSTART;TZID=America/Halifax:20180915T090000
DTEND;TZID=America/Halifax:20180915T130000
DTSTAMP:20260423T152716
CREATED:20180911T131652Z
LAST-MODIFIED:20180911T131652Z
UID:6938-1537002000-1537016400@1039maxfm.com
SUMMARY:Moncton Multiples Consignment Sale
DESCRIPTION:The 20th Moncton Multiples Consignment Sale will be on Saturday\, September 15th at the Moncton Coliseum. This fundraiser features gently-loved children’s items from 250 families\, all sorted by size and style and organized just like a thrift store! Clothing from newborn to size 16\, toys\, books\, shoes\, strollers\, snowsuits\, Halloween costumes and more! Admission is $2 cash at the door. Debit and cash are accepted for sale purchases inside. Open from 9am-1pm. \n
URL:https://1039maxfm.com/event/moncton-multiples-consignment-sale-2/
END:VEVENT
BEGIN:VEVENT
DTSTART;TZID=America/Halifax:20180915T110000
DTEND;TZID=America/Halifax:20180915T230000
DTSTAMP:20260423T152716
CREATED:20180911T132454Z
LAST-MODIFIED:20180911T132454Z
UID:6940-1537009200-1537052400@1039maxfm.com
SUMMARY:Papa John's Fundraiser For Becca Schofield Park
DESCRIPTION:On Tuesday\, September 18th\, Papa John’s Riverview location will run a one day fundraiser with ALL net proceeds of sales being donated to the Becca Schofield All World Super Play Park. Come out and support a great cause! \n
URL:https://1039maxfm.com/event/papa-johns-fundraiser-for-becca-schofield-park/
END:VEVENT
BEGIN:VEVENT
DTSTART;TZID=America/Halifax:20180915T130000
DTEND;TZID=America/Halifax:20180915T170000
DTSTAMP:20260423T152716
CREATED:20180814T140454Z
LAST-MODIFIED:20180814T140454Z
UID:6585-1537016400-1537030800@1039maxfm.com
SUMMARY:Travis Theriault Memorial Scholarship Golf Tournament
DESCRIPTION:The Travis Theriault Memorial Scholarship Golf Tournament will be on Saturday\, September 15th at Lakeside Golf and Country Club. Shotgun will be at 1pm. Cost is $100 per person with teams of four. All proceeds go towards providing 4 scholarships to local high school graduates for post secondary studies in memory of Travis. \n
URL:https://1039maxfm.com/event/travis-theriault-memorial-scholarship-golf-tournament/
END:VEVENT
END:VCALENDAR