BEGIN:VCALENDAR
VERSION:2.0
PRODID:-//103.9 MAX FM - ECPv4.6.26//NONSGML v1.0//EN
CALSCALE:GREGORIAN
METHOD:PUBLISH
X-WR-CALNAME:103.9 MAX FM
X-ORIGINAL-URL:https://1039maxfm.com
X-WR-CALDESC:Events for 103.9 MAX FM
BEGIN:VEVENT
DTSTART;TZID=America/Halifax:20180914T113000
DTEND;TZID=America/Halifax:20180914T133000
DTSTAMP:20260423T171714
CREATED:20180823T150049Z
LAST-MODIFIED:20180823T150049Z
UID:6659-1536924600-1536931800@1039maxfm.com
SUMMARY:Charity BBQ
DESCRIPTION:Cardinal Health Canada will be having a Charity BBQ on Friday\, September 14th from 11:30am-1:30pm at 268 Urquhart Ave. in the Caledonia Industrial Park. This will be in memory of Jackie Melanson. Proceeds will be split between the Rebecca Schofield Kindness Foundation and the Ronald MacDonald family room at the Moncton Hospital. Cost is $6 for a burger\, hotdog and a bottle of water. Come out & support a great cause! \n
URL:https://1039maxfm.com/event/charity-bbq/
END:VEVENT
BEGIN:VEVENT
DTSTART;TZID=America/Halifax:20180914T200000
DTEND;TZID=America/Halifax:20180916T220000
DTSTAMP:20260423T171714
CREATED:20180911T125034Z
LAST-MODIFIED:20180911T125034Z
UID:6936-1536955200-1537135200@1039maxfm.com
SUMMARY:Neptune Drive-In Showtimes
DESCRIPTION:Showing this weekend at the Neptune Drive-In (Sept. 14-16): \nThe Nun\, Rated 14A \nCrazy Rich Asians\, Rated PG \nShowtime is approximately 8pm \nYou can now purchase tickets online! \nPlease see their Twitter and Facebook page for more info \n \n
URL:https://1039maxfm.com/event/neptune-drive-in-showtimes-31/
END:VEVENT
END:VCALENDAR