BEGIN:VCALENDAR
VERSION:2.0
PRODID:-//103.9 MAX FM - ECPv4.6.26//NONSGML v1.0//EN
CALSCALE:GREGORIAN
METHOD:PUBLISH
X-WR-CALNAME:103.9 MAX FM
X-ORIGINAL-URL:https://1039maxfm.com
X-WR-CALDESC:Events for 103.9 MAX FM
BEGIN:VEVENT
DTSTART;TZID=America/Halifax:20180910T080000
DTEND;TZID=America/Halifax:20180910T200000
DTSTAMP:20260424T000413
CREATED:20180829T114754Z
LAST-MODIFIED:20180829T114754Z
UID:6734-1536566400-1536609600@1039maxfm.com
SUMMARY:Air Cadets of Canada
DESCRIPTION:If you would like to join the Air Cadets of Canada\, beginning Monday\, September 10th and every Monday there after\, please go to 293-299 Park St. ( the old Canadian forces base). Focused on helping youth ages 12-18 develop leadership and life skills\, instructional techniques\, effective speaking and promote the air element with gliding days. All activities are done at no cost to parent or guardian. Uniform\, meals and training are all FREE of charge. \nFor more info: http://www.650vanieraircadets.com \n
URL:https://1039maxfm.com/event/air-cadets-of-canada/
END:VEVENT
BEGIN:VEVENT
DTSTART;TZID=America/Halifax:20180910T193000
DTEND;TZID=America/Halifax:20180910T213000
DTSTAMP:20260424T000413
CREATED:20180828T140707Z
LAST-MODIFIED:20180828T140707Z
UID:6711-1536607800-1536615000@1039maxfm.com
SUMMARY:Fisher Cats Playoff Schedule
DESCRIPTION:Fisher Cats vs. Fredericton tonight @ 7:30pm at Kiwanis Park (Playoffs) \nSee their Facebook page and Twitter for more info! \n \n
URL:https://1039maxfm.com/event/fisher-cats-playoff-schedule-6/
END:VEVENT
BEGIN:VEVENT
DTSTART;TZID=America/Halifax:20180910T193000
DTEND;TZID=America/Halifax:20180910T203000
DTSTAMP:20260424T000413
CREATED:20180905T144243Z
LAST-MODIFIED:20180905T144243Z
UID:6796-1536607800-1536611400@1039maxfm.com
SUMMARY:Moncton-St. Antoine Snowmobile Club Inc. Meeting
DESCRIPTION:September has arrived and so has the 2018-2019 snowmobile season! The first meeting for the Moncton-St. Antoine Snowmobile Club Inc. will be held on Monday\, September 10th at 7:30pm @ Tankville School\, 1665 Elmwood Drive. Everyone is welcome! \n
URL:https://1039maxfm.com/event/moncton-st-antoine-snowmobile-club-inc-meeting/
END:VEVENT
END:VCALENDAR