BEGIN:VCALENDAR
VERSION:2.0
PRODID:-//103.9 MAX FM - ECPv4.6.26//NONSGML v1.0//EN
CALSCALE:GREGORIAN
METHOD:PUBLISH
X-WR-CALNAME:103.9 MAX FM
X-ORIGINAL-URL:https://1039maxfm.com
X-WR-CALDESC:Events for 103.9 MAX FM
BEGIN:VEVENT
DTSTART;TZID=America/Halifax:20180907T200000
DTEND;TZID=America/Halifax:20180909T220000
DTSTAMP:20260424T014613
CREATED:20180906T134808Z
LAST-MODIFIED:20180906T134808Z
UID:6810-1536350400-1536530400@1039maxfm.com
SUMMARY:Neptune Drive-In Showtimes
DESCRIPTION:Showing at the Neptune Drive-In this weekend (Sept. 7-9): \nOn Screen 1 only–Peppermint\, Rated 14A \nPapillon\, Rated 14A \nShowtime is approximately 8:10pm \nYou can now purchase tickets online! \n \n
URL:https://1039maxfm.com/event/neptune-drive-in-showtimes-30/
END:VEVENT
BEGIN:VEVENT
DTSTART;TZID=America/Halifax:20180909T103000
DTEND;TZID=America/Halifax:20180909T120000
DTSTAMP:20260424T014613
CREATED:20180821T140725Z
LAST-MODIFIED:20180821T140725Z
UID:6623-1536489000-1536494400@1039maxfm.com
SUMMARY:Lutes Mountain Church Community Friendship Sunday
DESCRIPTION:Lutes Mountain Church of the Nazarene will be having their Community Friendship Sunday at 2 Briggs Cross Road on Sunday\, September 9th at 10:30am. Music by Teen Challenge with a community BBQ to follow. \n
URL:https://1039maxfm.com/event/lutes-mountain-church-community-friendship-sunday/
END:VEVENT
BEGIN:VEVENT
DTSTART;TZID=America/Halifax:20180909T180000
DTEND;TZID=America/Halifax:20180909T200000
DTSTAMP:20260424T014613
CREATED:20180824T140035Z
LAST-MODIFIED:20180824T140035Z
UID:6679-1536516000-1536523200@1039maxfm.com
SUMMARY:Greater Moncton Chorale Registration
DESCRIPTION:Greater Moncton Chorale will hold registration and the first practice of the season at 6pm on Sunday\, September 9th in the Community Peace Centre Forum (Central United Church)\, 22 Church St. No experience is necessary and you can try it out for free for two weeks. They will be preparing for their Christmas concert to be held on Sunday\, December 16th. \n
URL:https://1039maxfm.com/event/greater-moncton-chorale-registration/
END:VEVENT
END:VCALENDAR