BEGIN:VCALENDAR
VERSION:2.0
PRODID:-//103.9 MAX FM - ECPv4.6.26//NONSGML v1.0//EN
CALSCALE:GREGORIAN
METHOD:PUBLISH
X-WR-CALNAME:103.9 MAX FM
X-ORIGINAL-URL:https://1039maxfm.com
X-WR-CALDESC:Events for 103.9 MAX FM
BEGIN:VEVENT
DTSTART;TZID=America/Halifax:20180203T190000
DTEND;TZID=America/Halifax:20180203T210000
DTSTAMP:20260421T150145
CREATED:20170919T155318Z
LAST-MODIFIED:20170919T155318Z
UID:5007-1517684400-1517691600@1039maxfm.com
SUMMARY:Wildcats Home Game
DESCRIPTION:The Wildcats take on Charlottetown tonight @ 7pm at the Moncton Coliseum! \nFor more info visit: http://www.moncton-wildcats.com and their Facebook/Twitter pages @ Moncton Wildcats \nGO CATS GO!! \n \n
URL:https://1039maxfm.com/event/wildcats-home-game-61/
END:VEVENT
END:VCALENDAR