BEGIN:VCALENDAR
VERSION:2.0
PRODID:-//103.9 MAX FM - ECPv4.6.26//NONSGML v1.0//EN
CALSCALE:GREGORIAN
METHOD:PUBLISH
X-WR-CALNAME:103.9 MAX FM
X-ORIGINAL-URL:https://1039maxfm.com
X-WR-CALDESC:Events for 103.9 MAX FM
BEGIN:VEVENT
DTSTART;TZID=America/Halifax:20180202T183000
DTEND;TZID=America/Halifax:20180202T203000
DTSTAMP:20260421T131904
CREATED:20171122T183556Z
LAST-MODIFIED:20171122T183556Z
UID:5625-1517596200-1517603400@1039maxfm.com
SUMMARY:Fun on Ice
DESCRIPTION:Fun on Ice is a series of FREE outdoor concerts at Place 1604 in Dieppe\, from December 1st- March 2nd! This not to be missed rendez-vous takes place every Friday at 6:30pm at the new refrigerated skating oval with bonfires and hot chocolate. \nFebruary 2nd–La Viree \n
URL:https://1039maxfm.com/event/fun-on-ice-10/
END:VEVENT
BEGIN:VEVENT
DTSTART;TZID=America/Halifax:20180202T190000
DTEND;TZID=America/Halifax:20180202T210000
DTSTAMP:20260421T131904
CREATED:20170919T155219Z
LAST-MODIFIED:20170919T155219Z
UID:5005-1517598000-1517605200@1039maxfm.com
SUMMARY:Wildcats Home Game
DESCRIPTION:The Wildcats take on Halifax tonight @ 7pm at the Moncton Coliseum! \nFor more info visit: http://www.moncton-wildcats.com and their Facebook/Twitter pages @ Moncton Wildcats \nGO CATS GO!! \n \n
URL:https://1039maxfm.com/event/wildcats-home-game-60/
END:VEVENT
END:VCALENDAR