BEGIN:VCALENDAR
VERSION:2.0
PRODID:-//103.9 MAX FM - ECPv4.6.26//NONSGML v1.0//EN
CALSCALE:GREGORIAN
METHOD:PUBLISH
X-WR-CALNAME:103.9 MAX FM
X-ORIGINAL-URL:https://1039maxfm.com
X-WR-CALDESC:Events for 103.9 MAX FM
BEGIN:VEVENT
DTSTART;TZID=America/Halifax:20180125T183000
DTEND;TZID=America/Halifax:20180125T213000
DTSTAMP:20260423T200956
CREATED:20171217T191925Z
LAST-MODIFIED:20171217T191925Z
UID:5737-1516905000-1516915800@1039maxfm.com
SUMMARY:Cooking For Cancer
DESCRIPTION:Local celebrity chefs will be duking it out in the kitchen as part of Moncton’s 2nd annual Cooking for Cancer\, a fundraiser for the Canadian Cancer Society! \nJoin us at the Delta Beausejour on Thursday\, January 25th\, 2018 and enjoy a variety of delicious dishes prepared by our celebrity chefs\, under the guidance of chefs at the Delta Beausejour! \nYou can then vote for your favourite chef/dish. Tickets are $75 with a $35 tax receipt. To buy your tickets\, please visit Cancer.ca/CookingForCancerNB. \nCooking for Cancer is proudly sponsored by Architects 4\, Delta Hotels\, Key Industries\, Today’s Best Music K94.5\, 103.9 Max FM & 99.9 Choix FM. \n  \n
URL:https://1039maxfm.com/event/cooking-for-cancer/
ATTACH;FMTTYPE=image/jpeg:https://1039maxfm.com/wp-content/uploads/sites/8/2017/12/cooking-max.jpg
END:VEVENT
END:VCALENDAR