BEGIN:VCALENDAR
VERSION:2.0
PRODID:-//103.9 MAX FM - ECPv4.6.26//NONSGML v1.0//EN
CALSCALE:GREGORIAN
METHOD:PUBLISH
X-WR-CALNAME:103.9 MAX FM
X-ORIGINAL-URL:https://1039maxfm.com
X-WR-CALDESC:Events for 103.9 MAX FM
BEGIN:VEVENT
DTSTART;TZID=America/Halifax:20170916T080000
DTEND;TZID=America/Halifax:20170930T170000
DTSTAMP:20260424T154147
CREATED:20170916T162604Z
LAST-MODIFIED:20170916T162604Z
UID:4929-1505548800-1506790800@1039maxfm.com
SUMMARY:Find Your Fit - Sport & Recreation Registration
DESCRIPTION:The City of Moncton is inviting residents to get moving towards a healthier lifestyle by participating in sports and recreational activities this fall and winter. “Find Your Fit” with any of these groups accepting registrations now! \nThe registration information for the following groups can be found on Moncton.ca! \nEvery kid deserves the chance to participate in activities.  Programs such as the Moncton Youth Recreation Assistance Program (MyRap) provide financial assistance for youth ages 4 to 18 to try a new sport or social activity or continue with a favourite one.  No kid should be left out – apply online today! \n
URL:https://1039maxfm.com/event/find-your-fit-sport-recreation-registration/
ATTACH;FMTTYPE=image/png:https://1039maxfm.com/wp-content/uploads/sites/8/2017/09/City_of_Moncton_logo_svg.png
END:VEVENT
BEGIN:VEVENT
DTSTART;TZID=America/Halifax:20170925T080000
DTEND;TZID=America/Halifax:20170929T170000
DTSTAMP:20260424T154147
CREATED:20170914T170928Z
LAST-MODIFIED:20170914T170928Z
UID:4922-1506326400-1506704400@1039maxfm.com
SUMMARY:Apple Pies
DESCRIPTION:The St. Philip Anglican Church at 30 Lynch St. is selling homemade 9″ deep dish apple pies from September 25-29 for $7 each. Please call 389-9424 to order or go to the church that week. \n
URL:https://1039maxfm.com/event/apple-pies/
END:VEVENT
BEGIN:VEVENT
DTSTART;TZID=America/Halifax:20170929T140000
DTEND;TZID=America/Halifax:20171001T180000
DTSTAMP:20260424T154147
CREATED:20170913T184112Z
LAST-MODIFIED:20170913T184112Z
UID:4899-1506693600-1506880800@1039maxfm.com
SUMMARY:Hub City Tattoo Expo - 5th Annual
DESCRIPTION:103.9 MAX FM is a proud sponsor of the Hub City Tattoo Expo happening September 29th – October 1st at the Moncton Coliseum (Agrena C)! \nHours:  Friday 2-10\, Saturday 12-10 & Sunday 12-6! \nCost:  $15/day\, $35/weekend (Children 12 & under are free) \nThere’s going to be entertainment\, shows\, vendors and some incredible artists on-site! \nFor more info\, check out HubCityTattooExpo.com! \n
URL:https://1039maxfm.com/event/hub-city-tattoo-expo-5th-annual/
ATTACH;FMTTYPE=image/png:https://1039maxfm.com/wp-content/uploads/sites/8/2017/09/HubCityTattooExpo_MAX.png
END:VEVENT
BEGIN:VEVENT
DTSTART;TZID=America/Halifax:20170929T183000
DTEND;TZID=America/Halifax:20170929T200000
DTSTAMP:20260424T154147
CREATED:20170926T193313Z
LAST-MODIFIED:20171024T181447Z
UID:5069-1506709800-1506715200@1039maxfm.com
SUMMARY:Chess Club for Kids
DESCRIPTION:There will be chess club for kids ages K-12 every Friday evening at Edith Cavell School (125 Park St.). It starts at 6:30pm and the cost is $2.50 per week \n
URL:https://1039maxfm.com/event/chess-club-for-kids/2017-09-29/
END:VEVENT
BEGIN:VEVENT
DTSTART;TZID=America/Halifax:20170929T190000
DTEND;TZID=America/Halifax:20170929T210000
DTSTAMP:20260424T154147
CREATED:20170919T152149Z
LAST-MODIFIED:20170919T152149Z
UID:4952-1506711600-1506718800@1039maxfm.com
SUMMARY:Wildcats Home Game
DESCRIPTION:The Wildcats take on Saint John tonight @ 7pm at the Moncton Coliseum! \nFor more info visit: http://www.moncton-wildcats.com and their Facebook/Twitter pages @ Moncton Wildcats \nGO CATS GO!! \n \n
URL:https://1039maxfm.com/event/wildcats-home-game-35/
END:VEVENT
END:VCALENDAR