BEGIN:VCALENDAR
VERSION:2.0
PRODID:-//103.9 MAX FM - ECPv4.6.26//NONSGML v1.0//EN
CALSCALE:GREGORIAN
METHOD:PUBLISH
X-WR-CALNAME:103.9 MAX FM
X-ORIGINAL-URL:https://1039maxfm.com
X-WR-CALDESC:Events for 103.9 MAX FM
BEGIN:VEVENT
DTSTART;TZID=America/Halifax:20170916T080000
DTEND;TZID=America/Halifax:20170930T170000
DTSTAMP:20260424T071534
CREATED:20170916T162604Z
LAST-MODIFIED:20170916T162604Z
UID:4929-1505548800-1506790800@1039maxfm.com
SUMMARY:Find Your Fit - Sport & Recreation Registration
DESCRIPTION:The City of Moncton is inviting residents to get moving towards a healthier lifestyle by participating in sports and recreational activities this fall and winter. “Find Your Fit” with any of these groups accepting registrations now! \nThe registration information for the following groups can be found on Moncton.ca! \nEvery kid deserves the chance to participate in activities.  Programs such as the Moncton Youth Recreation Assistance Program (MyRap) provide financial assistance for youth ages 4 to 18 to try a new sport or social activity or continue with a favourite one.  No kid should be left out – apply online today! \n
URL:https://1039maxfm.com/event/find-your-fit-sport-recreation-registration/
ATTACH;FMTTYPE=image/png:https://1039maxfm.com/wp-content/uploads/sites/8/2017/09/City_of_Moncton_logo_svg.png
END:VEVENT
BEGIN:VEVENT
DTSTART;TZID=America/Halifax:20170922T200000
DTEND;TZID=America/Halifax:20170924T200000
DTSTAMP:20260424T071534
CREATED:20170918T171845Z
LAST-MODIFIED:20170918T171845Z
UID:4945-1506110400-1506283200@1039maxfm.com
SUMMARY:Neptune Drive-In Showtimes
DESCRIPTION:Showing at the Neptune Drive-In this weekend (Sept 22-24): The Lego Ninjago Movie– Rated PG \nWonder Woman– Rated PG with violence\, not recommended for young children \nGates open at 6:30pm and showtime is at 8pm \n \n
URL:https://1039maxfm.com/event/neptune-drive-in-showtimes-17/
END:VEVENT
BEGIN:VEVENT
DTSTART;TZID=America/Halifax:20170924T103000
DTEND;TZID=America/Halifax:20170924T130000
DTSTAMP:20260424T071534
CREATED:20170822T124808Z
LAST-MODIFIED:20170822T124808Z
UID:4699-1506249000-1506258000@1039maxfm.com
SUMMARY:Friend Day
DESCRIPTION:Friend Day at Calvary Pentecostal Church\, 284 St. George St. in Sussex (behind the Kent store) will be taking place on Sunday\, September 24th at 10:30am. The guest speaker will be The Million Dollar Man- Ted Dibiase (WWE). There will be a carnival outside with food\, activities\, games\, prizes and much more! The is a FREE event and everyone is welcome! \n
URL:https://1039maxfm.com/event/friend-day/
END:VEVENT
BEGIN:VEVENT
DTSTART;TZID=America/Halifax:20170924T153000
DTEND;TZID=America/Halifax:20170924T183000
DTSTAMP:20260424T071534
CREATED:20170911T171134Z
LAST-MODIFIED:20170911T171134Z
UID:4871-1506267000-1506277800@1039maxfm.com
SUMMARY:Annual Roast Turkey Supper
DESCRIPTION:The annual roast turkey supper will be held on Sunday\, September 24th at the Apohaqui Recreation Centre\, Jones Memorial Park Road in Sussex from 3:30-6:30pm. The menu will consist of turkey\, pickles\, rolls and pumpkin or apple pie for desert. Cost is $13 for Adults\, $6 for Children ages 6-12 and FREE for Pre-School. There will also be a food and craft table. \n
URL:https://1039maxfm.com/event/annual-roast-turkey-supper/
END:VEVENT
END:VCALENDAR