BEGIN:VCALENDAR
VERSION:2.0
PRODID:-//103.9 MAX FM - ECPv4.6.26//NONSGML v1.0//EN
CALSCALE:GREGORIAN
METHOD:PUBLISH
X-WR-CALNAME:103.9 MAX FM
X-ORIGINAL-URL:https://1039maxfm.com
X-WR-CALDESC:Events for 103.9 MAX FM
BEGIN:VEVENT
DTSTART;TZID=America/Halifax:20170915T203000
DTEND;TZID=America/Halifax:20170917T203000
DTSTAMP:20260423T180549
CREATED:20170913T131100Z
LAST-MODIFIED:20170914T172920Z
UID:4875-1505507400-1505680200@1039maxfm.com
SUMMARY:Neptune Drive-In Showtimes
DESCRIPTION:Showing this weekend at the Neptune Drive-In (Sept. 15-17): American Assassin\, Rated TBA \nBon Cop Bad Cop 2\, Rated TBA \nShowtime is at dusk \n \n
URL:https://1039maxfm.com/event/neptune-drive-in-showtimes-16/
END:VEVENT
BEGIN:VEVENT
DTSTART;TZID=America/Halifax:20170916T070000
DTEND;TZID=America/Halifax:20170916T220000
DTSTAMP:20260423T180549
CREATED:20170911T130359Z
LAST-MODIFIED:20170911T130359Z
UID:4860-1505545200-1505599200@1039maxfm.com
SUMMARY:All-You-Can-Eat Pancake Breakfast
DESCRIPTION:The Salisbury Lions Club will be having an all-you-can-eat pancake breakfast on Saturday\, September 16th from 7-10am at the Lions Club- 63 Peter St. in Salisbury. The menu will consist of pancakes\, sausages\, pure maple syrup\, donuts\, muffins\, coffee\, tea and juice. Cost is $8 for Adults\, $3 for Children ages 6-10 and FREE for Pre-School. All proceeds go towards community work. \n
URL:https://1039maxfm.com/event/all-you-can-eat-pancake-breakfast-11/
END:VEVENT
BEGIN:VEVENT
DTSTART;TZID=America/Halifax:20170916T073000
DTEND;TZID=America/Halifax:20170916T113000
DTSTAMP:20260423T180549
CREATED:20170914T140740Z
LAST-MODIFIED:20170914T140740Z
UID:4912-1505547000-1505561400@1039maxfm.com
SUMMARY:Crossroads Relay
DESCRIPTION:The Crossroads Relay will be happening Saturday\, September 16th at the Rotary Park\, 505 Melanson Rd. in Dieppe. Events include a Children’s 750M run\, a 2KM individual race and a 10KM relay (teams of five). Registration is $50/individual. \n7:30am- Registration opens \n9am- Kids run start \n9:30am Relay start \n
URL:https://1039maxfm.com/event/crossroads-relay/
END:VEVENT
BEGIN:VEVENT
DTSTART;TZID=America/Halifax:20170916T080000
DTEND;TZID=America/Halifax:20170930T170000
DTSTAMP:20260423T180549
CREATED:20170916T162604Z
LAST-MODIFIED:20170916T162604Z
UID:4929-1505548800-1506790800@1039maxfm.com
SUMMARY:Find Your Fit - Sport & Recreation Registration
DESCRIPTION:The City of Moncton is inviting residents to get moving towards a healthier lifestyle by participating in sports and recreational activities this fall and winter. “Find Your Fit” with any of these groups accepting registrations now! \nThe registration information for the following groups can be found on Moncton.ca! \nEvery kid deserves the chance to participate in activities.  Programs such as the Moncton Youth Recreation Assistance Program (MyRap) provide financial assistance for youth ages 4 to 18 to try a new sport or social activity or continue with a favourite one.  No kid should be left out – apply online today! \n
URL:https://1039maxfm.com/event/find-your-fit-sport-recreation-registration/
ATTACH;FMTTYPE=image/png:https://1039maxfm.com/wp-content/uploads/sites/8/2017/09/City_of_Moncton_logo_svg.png
END:VEVENT
BEGIN:VEVENT
DTSTART;TZID=America/Halifax:20170916T100000
DTEND;TZID=America/Halifax:20170916T160000
DTSTAMP:20260423T180549
CREATED:20170905T175015Z
LAST-MODIFIED:20170905T175015Z
UID:4802-1505556000-1505577600@1039maxfm.com
SUMMARY:Tri-County Ground Search and Rescue 30th Celebration
DESCRIPTION:The Tri-County Ground Search and Rescue team will be celebrating their 30th anniversary on Saturday\, September 16th from 10am-4pm at Cabela’s. Their members and command post will be onsite for public viewing and demonstrations. There will be a BBQ from 11:30-1:30 all to raise awareness of SAR. This is a rain or shine event. \n
URL:https://1039maxfm.com/event/tri-county-ground-search-and-rescue-30th-celebration/
END:VEVENT
BEGIN:VEVENT
DTSTART;TZID=America/Halifax:20170916T120000
DTEND;TZID=America/Halifax:20170916T150000
DTSTAMP:20260423T180549
CREATED:20170906T135306Z
LAST-MODIFIED:20170906T135306Z
UID:4820-1505563200-1505574000@1039maxfm.com
SUMMARY:Orienteering NB Obstacle Course Event
DESCRIPTION:Orienteering NB will be hosting an obstacle course event on Saturday\, September 16th in Hillsborough on the White Rock Recreational Area map. This event will feature 5 courses: 1) Beginner course 2) Intermediate and geocaching course 3) Three advanced courses. Go solo or in a team. For event info and registration visit http://orienteeringnb.ca \n
URL:https://1039maxfm.com/event/orienteering-nb-obstacle-course-event/
END:VEVENT
BEGIN:VEVENT
DTSTART;TZID=America/Halifax:20170916T183000
DTEND;TZID=America/Halifax:20170923T170000
DTSTAMP:20260423T180549
CREATED:20170830T155814Z
LAST-MODIFIED:20170830T155925Z
UID:4755-1505586600-1506186000@1039maxfm.com
SUMMARY:Hunger Awareness Week 2017
DESCRIPTION:Hunger Awareness Week\nHUNGER AWARENESS WEEK is all about awareness of those in need around us… \nWe encourage everyone to take a few moments during the third week of September each year to really think of those less fortunate and struggling from day to day to feed themselves and/or their families and what you can do to help. \nHow can you help… every bit helps… \n\nDonate Food – As you are purchasing your groceries this week\, we encourage you to drop one or more food items in one of the Food DEPOT Alimentaire donation bins located at some of our major shopping centres\nDonate Money – We will provide you with a tax receipt for the full amount of your monetary donation\nDonate Time – Volunteer in one or more of the many activities scheduled throughout the week.\nParticipate! SEE BELOW FOR DETAILS ON LOCAL EVENTS\n\nFor more information regarding Hunger Awareness\, visit www.foodbankscanada.ca \n  \nHunger Awareness Week 2017 \nSPONSORS 2017 \nCEO Playtek Enterprises \nMolson Coors \nLes Productions Fusion Productions \nCanadian Auction Express \nToys for Big Boys \nSobeys \nSparkle \nArseno General Contractors \n  \nTICKETS ARE AVAILABLE AT HUNGER AWARENESS WEEK EVENTS! \nSchedule of Activities \nSept 7- Caledonia Cup Classic\, Lakeside Golf & Country Club\, 1:00pm\, 18 teams Texas scramble. \nSept 10- Strike Against Hunger Volleyball Tournament\, Co-ed\, 12:30pm-8:30pm\, Crossman Community Centre Gym\, $20 per player. \nSept 16 – MolsonCoors presents ‘Bites ‘n Brews’\, Eric Molson Room\, MolsonCoors Brewery\, 6:30-11:00pm. Tickets are $65 per person. \nSept 23 – Matt LeBlanc’s ‘Electrifying Tuuko II’\, Fusion Productions\, Casino New Brunswick\, Reception & Art Sale\, 7:30 PM\, Show & Dance Party\, 9 PM\, Tickets are $60 per person. \nSept 23 – Bikers ‘Ride for Hunger’ Motorcyclists meet at Toys for Big Boys for BBQ\, 11:00am-1:00pm\, Minimum donation of $20. \n
URL:https://1039maxfm.com/event/hunger-awareness-week-2017/
ATTACH;FMTTYPE=image/jpeg:https://1039maxfm.com/wp-content/uploads/sites/8/2017/08/hunger_awareness_logo.jpg
END:VEVENT
END:VCALENDAR