BEGIN:VCALENDAR
VERSION:2.0
PRODID:-//103.9 MAX FM - ECPv4.6.26//NONSGML v1.0//EN
CALSCALE:GREGORIAN
METHOD:PUBLISH
X-WR-CALNAME:103.9 MAX FM
X-ORIGINAL-URL:https://1039maxfm.com
X-WR-CALDESC:Events for 103.9 MAX FM
BEGIN:VEVENT
DTSTART;TZID=America/Halifax:20170915T100000
DTEND;TZID=America/Halifax:20170915T120000
DTSTAMP:20260423T161457
CREATED:20170905T131308Z
LAST-MODIFIED:20170905T131308Z
UID:4792-1505469600-1505476800@1039maxfm.com
SUMMARY:PC Shoreline Clean UP
DESCRIPTION:The Riverview Superstore would like to invite the community to their Shoreline Clean Up on Friday\, September 15th starting at 10am. They will be cleaning up the causeway to the Gunningsville Bridge. Free BBQ to follow. Please meet at the Riverview Superstore. For more info please contact Ruth at 387-5992\, ext 140. \n
URL:https://1039maxfm.com/event/pc-shoreline-clean-up/
END:VEVENT
BEGIN:VEVENT
DTSTART;TZID=America/Halifax:20170915T203000
DTEND;TZID=America/Halifax:20170917T203000
DTSTAMP:20260423T161457
CREATED:20170913T131100Z
LAST-MODIFIED:20170914T172920Z
UID:4875-1505507400-1505680200@1039maxfm.com
SUMMARY:Neptune Drive-In Showtimes
DESCRIPTION:Showing this weekend at the Neptune Drive-In (Sept. 15-17): American Assassin\, Rated TBA \nBon Cop Bad Cop 2\, Rated TBA \nShowtime is at dusk \n \n
URL:https://1039maxfm.com/event/neptune-drive-in-showtimes-16/
END:VEVENT
END:VCALENDAR