BEGIN:VCALENDAR
VERSION:2.0
PRODID:-//103.9 MAX FM - ECPv4.6.26//NONSGML v1.0//EN
CALSCALE:GREGORIAN
METHOD:PUBLISH
X-WR-CALNAME:103.9 MAX FM
X-ORIGINAL-URL:https://1039maxfm.com
X-WR-CALDESC:Events for 103.9 MAX FM
BEGIN:VEVENT
DTSTART;TZID=America/Halifax:20170801T080000
DTEND;TZID=America/Halifax:20170831T170000
DTSTAMP:20260424T043418
CREATED:20170801T141716Z
LAST-MODIFIED:20170801T142712Z
UID:4597-1501574400-1504198800@1039maxfm.com
SUMMARY:School Supply Drive
DESCRIPTION:Moncton Headstart\, The Salvation Army and Food Depot Alimentaire have teamed up again for the 2017 School Supply Drive. This community outreach program helps Greater Moncton families who cannot afford to fill the lists of school supplies requested by their children’s schools. Donors who wish to donate can simply deposit supplies in any collection box at the offices or at all Jean Coutu pharmacies in Greater Moncton\, Giant Tiger on Mapleton as well as various workplaces. To learn more or to donate\, please visit : http://www.monctonheadstart.com\, http://www.samonctoncfs.com or http://www.fooddepot.ca \n
URL:https://1039maxfm.com/event/school-supply-drive/
END:VEVENT
BEGIN:VEVENT
DTSTART;TZID=America/Halifax:20170829T180000
DTEND;TZID=America/Halifax:20170829T210000
DTSTAMP:20260424T043418
CREATED:20170704T181919Z
LAST-MODIFIED:20170704T181919Z
UID:4434-1504029600-1504040400@1039maxfm.com
SUMMARY:Cruise to Hillsborough
DESCRIPTION:The heart and soul of the classic car culture is going out for a spin and seeing other amazing vehicles! Visit the quaint village of Hillsborough\, see some great cars and be back in the city by dark. Every Tuesday on Main St in Hillsborough until the end of September- Cruise to Hillsborough! All funds raised goes towards the Hillsborough Boys & Girls Club. Starts @ 6pm. \n
URL:https://1039maxfm.com/event/cruise-to-hillsborough-7/
END:VEVENT
END:VCALENDAR