BEGIN:VCALENDAR
VERSION:2.0
PRODID:-//103.9 MAX FM - ECPv4.6.26//NONSGML v1.0//EN
CALSCALE:GREGORIAN
METHOD:PUBLISH
X-WR-CALNAME:103.9 MAX FM
X-ORIGINAL-URL:https://1039maxfm.com
X-WR-CALDESC:Events for 103.9 MAX FM
BEGIN:VEVENT
DTSTART;TZID=America/Halifax:20190615T110000
DTEND;TZID=America/Halifax:20190615T160000
DTSTAMP:20260424T113916
CREATED:20190613T190627Z
LAST-MODIFIED:20190613T190627Z
UID:9030-1560596400-1560614400@1039maxfm.com
SUMMARY:Wishmaker Mini Putt
DESCRIPTION:The Scotia Wealth Management Downtown Wishmaker Mini Putt will be taking place on Saturday\, June 15th. Enjoy a fun filled day putting your way through downtown Moncton and support a great cause. Teams will receive 2 for 1 drink tickets with some businesses giving away free snacks and beverages too. Registration will be from 11am-12pm @ Delta Beausejour with Tee-Off happening at 12pm. $240 minimum pledge required per team. At 4pm\, prizes and awards will be at the Old Triangle Irish Alehouse. \n
URL:https://1039maxfm.com/event/wishmaker-mini-putt/
END:VEVENT
END:VCALENDAR