BEGIN:VCALENDAR
VERSION:2.0
PRODID:-//103.9 MAX FM - ECPv4.6.26//NONSGML v1.0//EN
CALSCALE:GREGORIAN
METHOD:PUBLISH
X-WR-CALNAME:103.9 MAX FM
X-ORIGINAL-URL:https://1039maxfm.com
X-WR-CALDESC:Events for 103.9 MAX FM
BEGIN:VEVENT
DTSTART;TZID=America/Halifax:20161120T160000
DTEND;TZID=America/Halifax:20161120T190000
DTSTAMP:20260423T002202
CREATED:20160921T182945Z
LAST-MODIFIED:20160921T182945Z
UID:1320-1479657600-1479668400@1039maxfm.com
SUMMARY:Wildcats Home Game
DESCRIPTION: \nThe Moncton Wildcats take on Saint John this afternoon @ 4:00pm! \nFor more information\, check out http://Moncton-Wildcats.com \nGO CATS GO!!! \n
URL:https://1039maxfm.com/event/wildcats-home-game-13/
END:VEVENT
END:VCALENDAR