BEGIN:VCALENDAR
VERSION:2.0
PRODID:-//103.9 MAX FM - ECPv4.6.26//NONSGML v1.0//EN
CALSCALE:GREGORIAN
METHOD:PUBLISH
X-WR-CALNAME:103.9 MAX FM
X-ORIGINAL-URL:https://1039maxfm.com
X-WR-CALDESC:Events for 103.9 MAX FM
BEGIN:VEVENT
DTSTART;TZID=America/Halifax:20190310T160000
DTEND;TZID=America/Halifax:20190310T180000
DTSTAMP:20260423T033808
CREATED:20180910T174157Z
LAST-MODIFIED:20180910T174157Z
UID:6932-1552233600-1552240800@1039maxfm.com
SUMMARY:Wildcats Home Game
DESCRIPTION:The Moncton Wildcats take on Acadie-Bathurst tonight @ 4:00pm at Avenir Centre!  GO CATS GO! \n#DefendTheDen \nSee their Twitter and Facebook page for more info \n \n
URL:https://1039maxfm.com/event/wildcats-home-game-101/
END:VEVENT
END:VCALENDAR