BEGIN:VCALENDAR
VERSION:2.0
PRODID:-//103.9 MAX FM - ECPv4.6.26//NONSGML v1.0//EN
CALSCALE:GREGORIAN
METHOD:PUBLISH
X-WR-CALNAME:103.9 MAX FM
X-ORIGINAL-URL:https://1039maxfm.com
X-WR-CALDESC:Events for 103.9 MAX FM
BEGIN:VEVENT
DTSTART;TZID=America/Halifax:20170602T114500
DTEND;TZID=America/Halifax:20170602T133000
DTSTAMP:20260424T125002
CREATED:20170515T135705Z
LAST-MODIFIED:20170515T135705Z
UID:3866-1496403900-1496410200@1039maxfm.com
SUMMARY:Walk & Roll for Disability Awareness Week
DESCRIPTION:Join other members of the community on Friday\, June 2nd from 11:45am-1:30pm for the “Walk” or “Roll” event to raise awareness for people living with disabilities. The event will begin at 655 Main St. and will continue along Main St. There will also be speeches from Minister of Finance Cathy Rogers and tri area mayors will begin the event. \n
URL:https://1039maxfm.com/event/walk-roll-for-disability-awareness-week/
END:VEVENT
END:VCALENDAR