BEGIN:VCALENDAR
VERSION:2.0
PRODID:-//103.9 MAX FM - ECPv4.6.26//NONSGML v1.0//EN
CALSCALE:GREGORIAN
METHOD:PUBLISH
X-WR-CALNAME:103.9 MAX FM
X-ORIGINAL-URL:https://1039maxfm.com
X-WR-CALDESC:Events for 103.9 MAX FM
BEGIN:VEVENT
DTSTART;TZID=UTC+0:20160924T110000
DTEND;TZID=UTC+0:20160924T160000
DTSTAMP:20260424T111830
CREATED:20160816T173413Z
LAST-MODIFIED:20160823T131134Z
UID:267-1474714800-1474732800@1039maxfm.com
SUMMARY:Touch-A-Truck
DESCRIPTION:Where: Moncton Coliseum \nWhen: 11-4\, 2016-09-24 \nWhat do a yellow school bus\, an Armour Transport truck and a bright red Fire truck have in common? All those vehicles and plenty more will be in the Moncton Coliseum parking lot\, on Saturday\, September 24\, 2016\, from 11 am to 4 pm for the FIFTH annual Touch-A-Truck event! More than 100 vehicles/pieces of equipment will be on display for kids of all ages to examine\, touch and photograph. \nAdmission to the event is $5 per person\, in support of the Moncton Juvenile Diabetes Research Foundation (JDRF). Entertainment\, activities\, and refreshments will be available on site. Sure to attract many children and their families\, this community event will once again be one of Moncton’s September highlights! \nDemonstrations on-site throughout the day include: \n•Wagon Rides \n•Moonica\, the Dairy Cow \n•Jaws of life \n•Onsite demonstrations and activities \n•And much more! \n
URL:https://1039maxfm.com/event/touch-a-truck/
CATEGORIES:Community,Entertainment,Family Events
ATTACH;FMTTYPE=image/jpeg:https://1039maxfm.com/wp-content/uploads/sites/8/2016/08/rydqnlbw_TouchATruckFeatureMAX.jpg
END:VEVENT
END:VCALENDAR