BEGIN:VCALENDAR
VERSION:2.0
PRODID:-//103.9 MAX FM - ECPv4.6.26//NONSGML v1.0//EN
CALSCALE:GREGORIAN
METHOD:PUBLISH
X-WR-CALNAME:103.9 MAX FM
X-ORIGINAL-URL:https://1039maxfm.com
X-WR-CALDESC:Events for 103.9 MAX FM
BEGIN:VEVENT
DTSTART;TZID=America/Halifax:20260507T190000
DTEND;TZID=America/Halifax:20260507T190000
DTSTAMP:20260423T000408
CREATED:20260325T103521Z
LAST-MODIFIED:20260325T103521Z
UID:20487-1778180400-1778180400@1039maxfm.com
SUMMARY:Three Days Grace Alienation Tour
DESCRIPTION:\n\n\n\n\nEvent by evenko\, Live Nation Concerts and 2 others\n\n\n\n\n\n\n\n\n\n\n\n\nCentre Avenir Centre\n\n\n\n\n\n\n\n\n\nBILLETS/TICKETS : https://www.ticketmaster.ca/event/310063639F3E7125\nDoors Open at 6:30PM Event Starts at 7:30PM Price Range $55 to $129.50\, plus fees.\nSale Dates and Times:\nPublic Onsale : Fri\, 14 Nov 2025 at 10:00 AM\nFront Of The Line Amex Presale Tickets : Tue\, 11 Nov 2025 at 12:00 PM\nEvenko Presale : Thu\, 13 Nov 2025 at 10:00 AM\nArtist Presale : Tue\, 11 Nov 2025 at 12:00 PM\nLive Nation Presale : Wed\, 12 Nov 2025 at 10:00 AM\nTicketmaster Presale : Wed\, 12 Nov 2025 at 10:00 AM\nVenue Presale : Thu\, 13 Nov 2025 at 10:00 AM\nSpotify Presale : Thu\, 13 Nov 2025 at 10:00 AM\nVIP Package Presale : Tue\, 11 Nov 2025 at 12:00 PM\nVIP Package Onsale : Fri\, 14 Nov 2025 at 10:00 AM\n\n\n
URL:https://1039maxfm.com/event/three-days-grace-alienation-tour/
ATTACH;FMTTYPE=image/jpeg:https://1039maxfm.com/wp-content/uploads/sites/8/2026/03/580506415_1287515256750362_8401200227869167924_n.jpg
END:VEVENT
END:VCALENDAR