BEGIN:VCALENDAR
VERSION:2.0
PRODID:-//103.9 MAX FM - ECPv4.6.26//NONSGML v1.0//EN
CALSCALE:GREGORIAN
METHOD:PUBLISH
X-WR-CALNAME:103.9 MAX FM
X-ORIGINAL-URL:https://1039maxfm.com
X-WR-CALDESC:Events for 103.9 MAX FM
BEGIN:VEVENT
DTSTART;TZID=America/Halifax:20261007T190000
DTEND;TZID=America/Halifax:20261007T220000
DTSTAMP:20260423T113853
CREATED:20260408T113959Z
LAST-MODIFIED:20260408T113959Z
UID:20783-1791399600-1791410400@1039maxfm.com
SUMMARY:The Tough Guy Book Club
DESCRIPTION:\n\n\n\n\nEvent by Tough Guy Book Club\n\n\n\n\n\n\n\n\n\n\n\n\nChris Rock Tavern\n\n\n\n\n\n\n\n\n\n\n\n\nDuration: 3 hr\n\n\n\n\n\n\n\n\n\n\n\n\n\n\n\n\n\n\nJoin us for the Moncton NB Chapter of Tough Guy Book Club.\nYou can find out this month’s book here https://toughguybookclub.com/books\nIf you have the chance\, try to pick up the book and read a couple of pages before the night. If you haven’t\, come anyway\, no one gives a damn. We are not your boss.\nIf you got one\, make sure to bring your copy of the books down\, it’ll help you talk about bits of it\, we suggest underlining stuff that sticks out to you as important.\nAlso like all months\, we will be announcing next month’s book at the meeting and handing them out to those of you who were wise enough to pre-order last month.\nSee you there.\nWant to know more about Tough Guy Book Club? Read this – http://toughguybookclub.com/about-us\n\n\n
URL:https://1039maxfm.com/event/the-tough-guy-book-club-3/
ATTACH;FMTTYPE=image/jpeg:https://1039maxfm.com/wp-content/uploads/sites/8/2026/03/516454146_757555483496262_7831944445473550907_n-1-1.jpg
END:VEVENT
END:VCALENDAR