BEGIN:VCALENDAR
VERSION:2.0
PRODID:-//103.9 MAX FM - ECPv4.6.26//NONSGML v1.0//EN
CALSCALE:GREGORIAN
METHOD:PUBLISH
X-WR-CALNAME:103.9 MAX FM
X-ORIGINAL-URL:https://1039maxfm.com
X-WR-CALDESC:Events for 103.9 MAX FM
BEGIN:VEVENT
DTSTART;TZID=America/Halifax:20251220T200000
DTEND;TZID=America/Halifax:20251220T233000
DTSTAMP:20260425T103406
CREATED:20251201T130356Z
LAST-MODIFIED:20251201T130356Z
UID:20040-1766260800-1766273400@1039maxfm.com
SUMMARY:The Motorleague at The Tide & Boar Ballroom
DESCRIPTION:In October\, The Motorleague were forced to cancel a show due to what we had hoped were minor lung problems with our drummer\, T-Bone. After a month long hospital stay\, the diagnosis turned out to be far more severe\, and revealed that T-Bone had lung cancer\, that would require intensive treatment.�In order to help with recovery costs and medical bills\, this December The Motorleague\, will host a benefit show on Dec 20th\, 2025 at The Tide & Boar Ballroom! The band will be joined by long time friends\, The Monoxides\, Kill Chicago\, and Earth A.D. We hope to help relieve financial stress so that T-Bone can focus on beating this and getting back to doing what he loves.\nDoors open at 7:00pmShow starts at 8:00pm\n19+ID Required \nSee less\n\n
URL:https://1039maxfm.com/event/the-motorleague-at-the-tide-boar-ballroom/
ATTACH;FMTTYPE=image/jpeg:https://1039maxfm.com/wp-content/uploads/sites/8/2025/12/Motorleauge.jpg
END:VEVENT
END:VCALENDAR