BEGIN:VCALENDAR
VERSION:2.0
PRODID:-//103.9 MAX FM - ECPv4.6.26//NONSGML v1.0//EN
CALSCALE:GREGORIAN
METHOD:PUBLISH
X-WR-CALNAME:103.9 MAX FM
X-ORIGINAL-URL:https://1039maxfm.com
X-WR-CALDESC:Events for 103.9 MAX FM
BEGIN:VEVENT
DTSTART;VALUE=DATE:20191211
DTEND;VALUE=DATE:20191212
DTSTAMP:20260422T192020
CREATED:20191002T182018Z
LAST-MODIFIED:20191002T184416Z
UID:9850-1576022400-1576108799@1039maxfm.com
SUMMARY:The $5 Challenge
DESCRIPTION:Join us for the The $5 Challenge presented by Medavie! Greater Moncton will attempt to set a Guinness World Record for the longest line of paper currency in a row on December 11th at the Avenir Centre. \nThe feat\, which has been deemed “The $5 Challenge”\, is being undertaken in support of the Beauséjour Crisis Resource Centre.  The goal for the challenge is a total of $200\,000 which is 40\,000 five dollar bills strung together with tape – totalling a distance of just over 6km. \nThe Beauséjour Family Crisis Resource Centre is a charitable organization offering counselling and support to those experiencing emotional difficulties as well as victims of family violence and sexual assault along with their children in South-East New Brunswick. The centre provides immediate services on a 24/7 basis to a large geographical region from Alma to Rexton and east to the border of Nova Scotia\, servicing a total population of over 220\,000. Over 40% of all clients come from the Greater Moncton Community itself. \nOver the past two years\, business and community leaders came together for a regional campaign to raise $4.2 million dollars to build a full-service\, 24/7 centre located in Shediac to accommodate the demand of services. The organization also operates a free clinic\, by appointment\, located at Headstart in Moncton on weekdays. \nThis will be a Guinness Official World Record Attempt with judging officials flying in internationally to verify.  The current record for the longest line of paper currency in a row is held in the United States and was set in 2007. \nReaching this goal will mean the centre has the sustainable and operational funding that they require. \nEvery $5 helps!  Donations can be made at National Bank\, UNI and RBC or online at CanadaHelps.org. \n  \n
URL:https://1039maxfm.com/event/the-5-challenge/
CATEGORIES:Charity Events,Community
ATTACH;FMTTYPE=image/jpeg:https://1039maxfm.com/wp-content/uploads/sites/8/2019/10/5-EVENTS-PAGE.jpg
END:VEVENT
END:VCALENDAR