BEGIN:VCALENDAR
VERSION:2.0
PRODID:-//103.9 MAX FM - ECPv4.6.26//NONSGML v1.0//EN
CALSCALE:GREGORIAN
METHOD:PUBLISH
X-WR-CALNAME:103.9 MAX FM
X-ORIGINAL-URL:https://1039maxfm.com
X-WR-CALDESC:Events for 103.9 MAX FM
BEGIN:VEVENT
DTSTART;TZID=America/Halifax:20160924T100000
DTEND;TZID=America/Halifax:20160924T150000
DTSTAMP:20260419T132007
CREATED:20160914T170014Z
LAST-MODIFIED:20160914T170014Z
UID:1099-1474711200-1474729200@1039maxfm.com
SUMMARY:Test drive a Ford event
DESCRIPTION:There will be a Test Drive a Ford event at Saint Henri School at 101 Gross Ave. from 10:00am to 3:00pm on Saturday\, September 24th.  For each test drive\, Ford Canada will donate $20 to the school for a new outdoor sports area. \n
URL:https://1039maxfm.com/event/test-drive-a-ford-event/
END:VEVENT
END:VCALENDAR