BEGIN:VCALENDAR
VERSION:2.0
PRODID:-//103.9 MAX FM - ECPv4.6.26//NONSGML v1.0//EN
CALSCALE:GREGORIAN
METHOD:PUBLISH
X-WR-CALNAME:103.9 MAX FM
X-ORIGINAL-URL:https://1039maxfm.com
X-WR-CALDESC:Events for 103.9 MAX FM
BEGIN:VEVENT
DTSTART;TZID=America/Halifax:20171219T100000
DTEND;TZID=America/Halifax:20171219T113000
DTSTAMP:20260424T111705
CREATED:20171107T151526Z
LAST-MODIFIED:20171107T151526Z
UID:5520-1513677600-1513683000@1039maxfm.com
SUMMARY:Superstore- Little Hands
DESCRIPTION:Riverview Superstore- Little Hands (ages 2-5) \nTuesday\, December 19th from 10-11:30am \nEdible Christmas Decorations \n$9 +tax per child\, free for parents \nSign up in store or online \nhttp://www.pccookingschool.ca \n
URL:https://1039maxfm.com/event/superstore-little-hands-2/
END:VEVENT
END:VCALENDAR