BEGIN:VCALENDAR
VERSION:2.0
PRODID:-//103.9 MAX FM - ECPv4.6.26//NONSGML v1.0//EN
CALSCALE:GREGORIAN
METHOD:PUBLISH
X-WR-CALNAME:103.9 MAX FM
X-ORIGINAL-URL:https://1039maxfm.com
X-WR-CALDESC:Events for 103.9 MAX FM
BEGIN:VEVENT
DTSTART;TZID=America/Halifax:20171223T140000
DTEND;TZID=America/Halifax:20171223T160000
DTSTAMP:20260423T120807
CREATED:20171107T153031Z
LAST-MODIFIED:20171107T153031Z
UID:5526-1514037600-1514044800@1039maxfm.com
SUMMARY:Superstore- Gingerbread House Decorating for Kids
DESCRIPTION:Riverview Superstore- Gingerbread House Decorating for Kids (all ages) \nSaturday\, December 23rd from 2-4pm \n$18 +tax per house\, max 2 children per house \nSign up in store or online \nhttp://www.pccookingschool.ca \n
URL:https://1039maxfm.com/event/superstore-gingerbread-house-decorating-for-kids-3/
END:VEVENT
END:VCALENDAR