BEGIN:VCALENDAR
VERSION:2.0
PRODID:-//103.9 MAX FM - ECPv4.6.26//NONSGML v1.0//EN
CALSCALE:GREGORIAN
METHOD:PUBLISH
X-WR-CALNAME:103.9 MAX FM
X-ORIGINAL-URL:https://1039maxfm.com
X-WR-CALDESC:Events for 103.9 MAX FM
BEGIN:VEVENT
DTSTART;TZID=America/Halifax:20190628T110000
DTEND;TZID=America/Halifax:20190628T130000
DTSTAMP:20260424T111707
CREATED:20190612T122528Z
LAST-MODIFIED:20190612T122528Z
UID:8997-1561719600-1561726800@1039maxfm.com
SUMMARY:Superhero Princess and Tea
DESCRIPTION:Steeves House Museum\, 40 Mill St. in Hillsborough will be having a Superhero & Princess Tea on Friday\, June 28th @ 11am. All ages welcome\, costumes encouraged. Snacks and refreshments provided. Tickets are $5 per person \n
URL:https://1039maxfm.com/event/superhero-princess-and-tea/
END:VEVENT
END:VCALENDAR