BEGIN:VCALENDAR
VERSION:2.0
PRODID:-//103.9 MAX FM - ECPv4.6.26//NONSGML v1.0//EN
CALSCALE:GREGORIAN
METHOD:PUBLISH
X-WR-CALNAME:103.9 MAX FM
X-ORIGINAL-URL:https://1039maxfm.com
X-WR-CALDESC:Events for 103.9 MAX FM
BEGIN:VEVENT
DTSTART;TZID=America/Halifax:20161217T080000
DTEND;TZID=America/Halifax:20161217T180000
DTSTAMP:20260421T125943
CREATED:20161214T150206Z
LAST-MODIFIED:20161214T150206Z
UID:2560-1481961600-1481997600@1039maxfm.com
SUMMARY:Subway Toy Drive
DESCRIPTION:Subway Toy Drive is happening Saturday\, December 17th from 8am-6pm! Drop off a new unopened toy at any DIEPPE (Dieppe only) Subway location and get a free 6″ sub coupon all in support of Moncton Headstart’s Toyland. \n
URL:https://1039maxfm.com/event/subway-toy-drive/
END:VEVENT
END:VCALENDAR