BEGIN:VCALENDAR
VERSION:2.0
PRODID:-//103.9 MAX FM - ECPv4.6.26//NONSGML v1.0//EN
CALSCALE:GREGORIAN
METHOD:PUBLISH
X-WR-CALNAME:103.9 MAX FM
X-ORIGINAL-URL:https://1039maxfm.com
X-WR-CALDESC:Events for 103.9 MAX FM
BEGIN:VEVENT
DTSTART;TZID=America/Halifax:20191205T173000
DTEND;TZID=America/Halifax:20191205T203000
DTSTAMP:20260422T120718
CREATED:20191125T190753Z
LAST-MODIFIED:20191125T190753Z
UID:10355-1575567000-1575577800@1039maxfm.com
SUMMARY:Studio CREA Toyland Charity Event
DESCRIPTION:Come and enjoy a hot chocolate while you build and decorate your own laser-cut Christmas home at Studio CREA on Thursday\, December 5th from 5:30-8:30pm at 561 Ferdinand Blvd.\, Unit 2 in Dieppe. Donations required for the activity and one house per child. All money raised will go to Toyland for the Moncton Headstart program. This event is planned\, organized and managed by Olivia and Katrine\, grade 7 students from Studio CREA. \n
URL:https://1039maxfm.com/event/studio-crea-toyland-charity-event/
END:VEVENT
END:VCALENDAR