BEGIN:VCALENDAR
VERSION:2.0
PRODID:-//103.9 MAX FM - ECPv4.6.26//NONSGML v1.0//EN
CALSCALE:GREGORIAN
METHOD:PUBLISH
X-WR-CALNAME:103.9 MAX FM
X-ORIGINAL-URL:https://1039maxfm.com
X-WR-CALDESC:Events for 103.9 MAX FM
BEGIN:VEVENT
DTSTART;TZID=America/Halifax:20200907T130000
DTEND;TZID=America/Halifax:20200907T160000
DTSTAMP:20260424T114434
CREATED:20200729T232952Z
LAST-MODIFIED:20200729T234102Z
UID:11843-1599483600-1599494400@1039maxfm.com
SUMMARY:St. Stephen's United Church's Annual Harvest Home Church Supper
DESCRIPTION: \nSt. Stephen’s United Church’s Annual Harvest Home Church Supper; Monday\, September 7\, 2020 at the Black River Community Hall\, Black River Bridge. \nThis supper is a take-out only format. \n
URL:https://1039maxfm.com/event/st-stephens-united-churchs-annual-harvest-home-church-supper/
END:VEVENT
END:VCALENDAR