BEGIN:VCALENDAR
VERSION:2.0
PRODID:-//103.9 MAX FM - ECPv4.6.26//NONSGML v1.0//EN
CALSCALE:GREGORIAN
METHOD:PUBLISH
X-WR-CALNAME:103.9 MAX FM
X-ORIGINAL-URL:https://1039maxfm.com
X-WR-CALDESC:Events for 103.9 MAX FM
BEGIN:VEVENT
DTSTART;TZID=America/Halifax:20161217T143000
DTEND;TZID=America/Halifax:20161217T163000
DTSTAMP:20260421T145756
CREATED:20161213T141320Z
LAST-MODIFIED:20161213T141825Z
UID:2557-1481985000-1481992200@1039maxfm.com
SUMMARY:Skate with Santa
DESCRIPTION:he City of Moncton invites everyone to get active with Santa for an afternoon of skating at the Moncton Coliseum on Saturday\, December 17th from 2:30- 4:30pm. This event is free and there will be free hot chocolate from Tim Hortons to warm you up! All skating safety rules will apply and skaters are required to wear a CSA approved ice helmet when on the ice. \n
URL:https://1039maxfm.com/event/skate-with-santa/
END:VEVENT
END:VCALENDAR