BEGIN:VCALENDAR
VERSION:2.0
PRODID:-//103.9 MAX FM - ECPv4.6.26//NONSGML v1.0//EN
CALSCALE:GREGORIAN
METHOD:PUBLISH
X-WR-CALNAME:103.9 MAX FM
X-ORIGINAL-URL:https://1039maxfm.com
X-WR-CALDESC:Events for 103.9 MAX FM
BEGIN:VEVENT
DTSTART;TZID=America/Halifax:20260424T200000
DTEND;TZID=America/Halifax:20260425T233000
DTSTAMP:20260424T114435
CREATED:20260303T123658Z
LAST-MODIFIED:20260303T123658Z
UID:20403-1777060800-1777159800@1039maxfm.com
SUMMARY:Signal Hill at Tide & Boar April 24th & 25th!
DESCRIPTION:\n\n\n\n\nEvent by Tide and Boar Gastropub\n\n\n\n\n\n\n\n\n\n\n\n\n700 Main St\, Moncton\, NB\, Canada\, New Brunswick E1C 1E4\n\n\n\n\n\n\n\n\n\nThe Maritimes Favorite Party Band is back at The Tide & Boar Ballroom April 24 and 25. Doors open at 8pm show starts at 9pm.\n\nMore info here \n\n
URL:https://1039maxfm.com/event/signal-hill-at-tide-boar-april-24th-25th/
ATTACH;FMTTYPE=image/jpeg:https://1039maxfm.com/wp-content/uploads/sites/8/2026/03/632112680_1328538322644708_723289500428258955_n.jpg
END:VEVENT
END:VCALENDAR