BEGIN:VCALENDAR
VERSION:2.0
PRODID:-//103.9 MAX FM - ECPv4.6.26//NONSGML v1.0//EN
CALSCALE:GREGORIAN
METHOD:PUBLISH
X-WR-CALNAME:103.9 MAX FM
X-ORIGINAL-URL:https://1039maxfm.com
X-WR-CALDESC:Events for 103.9 MAX FM
BEGIN:VEVENT
DTSTART;TZID=America/Halifax:20170210T080000
DTEND;TZID=America/Halifax:20170226T170000
DTSTAMP:20260424T115001
CREATED:20170202T143333Z
LAST-MODIFIED:20170202T143333Z
UID:2808-1486713600-1488128400@1039maxfm.com
SUMMARY:Show Us Your Heart fundraiser for pets
DESCRIPTION:Give a little and help local pet shelters and rescue groups care for a lot of homeless pets! From February 10-26th\, visit any Global Pet Foods store and make a donation during the Show Us Your Heart fundraiser. For every $1 donated\, Global will match that amount and all funds raised will go to local animal rescues: Ca-R-Ma Moncton as well as The Greater Moncton SPCA. \n
URL:https://1039maxfm.com/event/show-us-your-heart-fundraiser-for-pets/
END:VEVENT
END:VCALENDAR