BEGIN:VCALENDAR
VERSION:2.0
PRODID:-//103.9 MAX FM - ECPv4.6.26//NONSGML v1.0//EN
CALSCALE:GREGORIAN
METHOD:PUBLISH
X-WR-CALNAME:103.9 MAX FM
X-ORIGINAL-URL:https://1039maxfm.com
X-WR-CALDESC:Events for 103.9 MAX FM
BEGIN:VEVENT
DTSTART;TZID=America/Halifax:20250316T130000
DTEND;TZID=America/Halifax:20250316T160000
DTSTAMP:20260420T132657
CREATED:20250123T142150Z
LAST-MODIFIED:20250123T142530Z
UID:18864-1742130000-1742140800@1039maxfm.com
SUMMARY:Shediac Yoga Fest 2025
DESCRIPTION:Join us for a rejuvenating and inspiring day of yoga\, wellness\, and community connection! \n-Choose from up to four incredible activities: Kundalini Yoga\, Gentle Yin Yoga\, Vinyasa Yoga\, and a deeply relaxing Sound Healing session – perfect for all levels\, from beginners to experienced yogis.\n-Explore our vibrant market\, happening at the same location from 11 AM – 4 PM\, featuring local and small business vendors offering unique products and services. Feel free to visit the market area before or after your classes!\n-Be one of the first 50 yoga class ticket holders to receive a pair of beautiful earrings from Love Letters OXO Jewelry as a special thank-you gift for joining our first yoga event.\n-Every ticket purchase enters you into a prize draw for a chance to win an exclusive gift – don’t miss out!\n Tickets: $15+tax+fee per class (www.lovelettersoxo.ca/event)Pre-registration required. Space is limited\, so secure your spot early!\nWhether you’re looking to recharge\, shop local\, or connect with like-minded individuals\, Yoga Fest 2025 offers the perfect opportunity to nurture your mind\, body\, and soul. Invite your friends and let’s make this an unforgettable day together!\n
URL:https://1039maxfm.com/event/shediac-yoga-fest-2025/
LOCATION:Shediac Multipurpose Centre\, 58 Festival Street\, Shediac
ATTACH;FMTTYPE=image/jpeg:https://1039maxfm.com/wp-content/uploads/sites/8/2025/01/471405414_10162716943111477_6373039198187325278_n.jpg
END:VEVENT
END:VCALENDAR