BEGIN:VCALENDAR
VERSION:2.0
PRODID:-//103.9 MAX FM - ECPv4.6.26//NONSGML v1.0//EN
CALSCALE:GREGORIAN
METHOD:PUBLISH
X-WR-CALNAME:103.9 MAX FM
X-ORIGINAL-URL:https://1039maxfm.com
X-WR-CALDESC:Events for 103.9 MAX FM
BEGIN:VEVENT
DTSTART;TZID=America/Halifax:20191116T090000
DTEND;TZID=America/Halifax:20191116T140000
DTSTAMP:20260420T222451
CREATED:20191030T130149Z
LAST-MODIFIED:20191030T130149Z
UID:10129-1573894800-1573912800@1039maxfm.com
SUMMARY:Shediac Cape School Fall Fair
DESCRIPTION:Join the students at Shediac Cape School for the kick off to the holidays Fall Fair on Saturday\, November 16th from 9am-2pm at the school- 3375 Route 134. There will be a 50/50 draw\, door prizes\, baked goods\, original art work\, crafts\, jewelry and much more! \n
URL:https://1039maxfm.com/event/shediac-cape-school-fall-fair/
END:VEVENT
END:VCALENDAR