BEGIN:VCALENDAR
VERSION:2.0
PRODID:-//103.9 MAX FM - ECPv4.6.26//NONSGML v1.0//EN
CALSCALE:GREGORIAN
METHOD:PUBLISH
X-WR-CALNAME:103.9 MAX FM
X-ORIGINAL-URL:https://1039maxfm.com
X-WR-CALDESC:Events for 103.9 MAX FM
BEGIN:VEVENT
DTSTART;TZID=America/Halifax:20190511T080000
DTEND;TZID=America/Halifax:20190511T120000
DTSTAMP:20260420T132648
CREATED:20190503T114237Z
LAST-MODIFIED:20190503T114237Z
UID:8551-1557561600-1557576000@1039maxfm.com
SUMMARY:Royal LePage Atlantic Yard Sale
DESCRIPTION:The Annual Royal LePage Atlantic Yard Sale will be happening on Saturday\, May 11th from 8am-12 noon at 653 St. George Blvd. in the front of the building. All proceeds are going to the Beausejour Family Crisis Center. BBQ hot dogs and pop will be provided and free tickets will be given out for a chance to win prizes. \n
URL:https://1039maxfm.com/event/royal-lepage-atlantic-yard-sale/
END:VEVENT
END:VCALENDAR