BEGIN:VCALENDAR
VERSION:2.0
PRODID:-//103.9 MAX FM - ECPv4.6.26//NONSGML v1.0//EN
CALSCALE:GREGORIAN
METHOD:PUBLISH
X-WR-CALNAME:103.9 MAX FM
X-ORIGINAL-URL:https://1039maxfm.com
X-WR-CALDESC:Events for 103.9 MAX FM
BEGIN:VEVENT
DTSTART;TZID=America/Halifax:20191026T160000
DTEND;TZID=America/Halifax:20191026T180000
DTSTAMP:20260423T113329
CREATED:20191024T114703Z
LAST-MODIFIED:20191024T114703Z
UID:10065-1572105600-1572112800@1039maxfm.com
SUMMARY:Roast Beef Dinner
DESCRIPTION:The Salisbury Lions Club will be having their Annual Fall Roast Beef Dinner on Saturday\, October 26th from 4-6pm at the Salisbury Lions Club\, 63 Peter St. The menu will consist of roast beef\, potatoes\, carrots/peas\, gravy plus bottomless drinks and dessert. Cost is $15 for Adults and $6 for Children 10 and under. \n
URL:https://1039maxfm.com/event/roast-beef-dinner-2/
END:VEVENT
END:VCALENDAR