BEGIN:VCALENDAR
VERSION:2.0
PRODID:-//103.9 MAX FM - ECPv4.6.26//NONSGML v1.0//EN
CALSCALE:GREGORIAN
METHOD:PUBLISH
X-WR-CALNAME:103.9 MAX FM
X-ORIGINAL-URL:https://1039maxfm.com
X-WR-CALDESC:Events for 103.9 MAX FM
BEGIN:VEVENT
DTSTART;TZID=America/Halifax:20260214T080000
DTEND;TZID=America/Halifax:20260214T110000
DTSTAMP:20260422T153647
CREATED:20260130T121010Z
LAST-MODIFIED:20260130T121010Z
UID:20260-1771056000-1771066800@1039maxfm.com
SUMMARY:RLC Pancake Breakfast
DESCRIPTION:\n\n\n\n\nEvent by Riverview Lions Club\n\n\n\n\n\n\n\n\n\n\n\n\n701 Coverdale Rd. PO Box 7044\, Riverview\, NB\, Canada\, New Brunswick E1B 3K9\n\n\n\n\n\n\n\n\n\n\n\n\n\n\n\nJoin us for our monthly Pancake Breakfast and support a great community organization!\nFor just $10\, enjoy a delicious breakfast featuring pancakes\, sausage\, scrambled eggs\, beans\, toast\, tea or coffee\, and juice.\nPricing:• $10 per person• $30 per family• Children 5 and under eat free\nDoors open at 8:00 AM\, and breakfast is served until 11:00 AM.\nAll proceeds from this breakfast will support the amazing work of the Royal Rush Dragon Boat team\n\n\n\n
URL:https://1039maxfm.com/event/rlc-pancake-breakfast/
ATTACH;FMTTYPE=image/jpeg:https://1039maxfm.com/wp-content/uploads/sites/8/2026/01/608174630_1376292077865109_7659335278944580153_n.jpg
END:VEVENT
END:VCALENDAR