BEGIN:VCALENDAR
VERSION:2.0
PRODID:-//103.9 MAX FM - ECPv4.6.26//NONSGML v1.0//EN
CALSCALE:GREGORIAN
METHOD:PUBLISH
X-WR-CALNAME:103.9 MAX FM
X-ORIGINAL-URL:https://1039maxfm.com
X-WR-CALDESC:Events for 103.9 MAX FM
BEGIN:VEVENT
DTSTART;TZID=America/Halifax:20190921T100000
DTEND;TZID=America/Halifax:20190921T170000
DTSTAMP:20260425T103340
CREATED:20190913T131059Z
LAST-MODIFIED:20190913T131059Z
UID:9614-1569060000-1569085200@1039maxfm.com
SUMMARY:Ride for the Breath of Life
DESCRIPTION:The New Brunswick Community Ride in support of Cystic Fibrosis Canada will be taking place in Moncton on Saturday\, September 21st at Toys for Big Boys\, 633 Salisbury Rd. Registration is $30 per bike plus a $10 passenger fee/ FREE with $75 in pledges. \nMoncton–10am Registration–10:30 Departure \nSussex–10am Departure (Pre-Register) \nFredericton–10:30am Registration–10:30 Departure \n1:00pm–Lunch\, meet up in Gagetown \nFor more info: http://rideforthebreathoflife.com \n
URL:https://1039maxfm.com/event/ride-for-the-breath-of-life/
END:VEVENT
END:VCALENDAR