BEGIN:VCALENDAR
VERSION:2.0
PRODID:-//103.9 MAX FM - ECPv4.6.26//NONSGML v1.0//EN
CALSCALE:GREGORIAN
METHOD:PUBLISH
X-WR-CALNAME:103.9 MAX FM
X-ORIGINAL-URL:https://1039maxfm.com
X-WR-CALDESC:Events for 103.9 MAX FM
BEGIN:VEVENT
DTSTART;TZID=America/Halifax:20161121T080000
DTEND;TZID=America/Halifax:20161121T170000
DTSTAMP:20260422T223825
CREATED:20161026T193130Z
LAST-MODIFIED:20161026T193130Z
UID:2273-1479715200-1479747600@1039maxfm.com
SUMMARY:Red scarves for World AIDS Day
DESCRIPTION:This year on World Aids Day (Dec. 1st)\, AIDS Moncton will be tying red scarves on lampposts\, fences and benches around Downtown Moncton to represent those affected by HIV/AIDS. \nRed scarves are needed for donation. They need to be received by the week of Nov. 21-25. \nTo donate or for more info please call Bridgett Donovan at 506-859-9616 or email \nhttp://bdonovan@sida-aidsmoncton.com \n
URL:https://1039maxfm.com/event/red-scarves-for-world-aids-day/
END:VEVENT
END:VCALENDAR