BEGIN:VCALENDAR
VERSION:2.0
PRODID:-//103.9 MAX FM - ECPv4.6.26//NONSGML v1.0//EN
CALSCALE:GREGORIAN
METHOD:PUBLISH
X-WR-CALNAME:103.9 MAX FM
X-ORIGINAL-URL:https://1039maxfm.com
X-WR-CALDESC:Events for 103.9 MAX FM
BEGIN:VEVENT
DTSTART;VALUE=DATE:20260215
DTEND;VALUE=DATE:20260216
DTSTAMP:20260424T173823
CREATED:20260215T174033Z
LAST-MODIFIED:20260215T174033Z
UID:20349-1771113600-1771199999@1039maxfm.com
SUMMARY:PolarFest 2026 Activities for February 15th
DESCRIPTION:SUNDAY\, FEB. 15 • PolarFest at Centennial Park\nOpen all day until closing:\n🧣 Centennial Park Sliding Hill\n🧣 Kaboom Hockey Rink\n🧣 Muskrat Skating Trail \n12 p.m. – 4 p.m.: \n❄️ Llama-zing Adventures\n❄️ Pressure Printing with Andrea deBruijn\n❄️ Free hot chocolate\n❄️ Activity led by Resurgo Place:\n🔸Rocket Bowling & Stomp Rockets: Discover the amazing things that can be done by creating powerful “invisible” forces using AIR!\n🔸Prize wheel quiz: Fun facts about winter and local history with little giveaways and keepsakes!\n❄️ Activities led by Scouts Canada:\n🔸Snow sculpture activities: Scouts Canada will create a base of snow out of 20-litre pails and will be on site to assist the public in creating their sculptures. Safe dyes will be provided to colour everyone’s creations. \n12 p.m. – 8 p.m.: \n❄️ UNI inflatable igloo\n🔸 With contests and kids’ activities\n❄️ Horse-drawn wagon rides\n❄️ Cozy Beer Garden with Happy Craft Brewing\n❄️ Food trucks on site: Mama K’s and Fusion Express \n12 p.m. – 4 p.m.: Free snowshoe and cross-country ski rentals with Camp Centennial. No registration required. \n5 p.m. – 8 p.m.: Live music in the Beer Garden with Ivan Daigle \n5:30 p.m. – 7:30 p.m.: Free maple taffy on a stick by Briggs Maples \n6 p.m.: Serpentine Studios Light Show \nOther PolarFest activities in Moncton on Feb. 15:\n❄️ At the Moncton Public Library: 10 a.m. – 5 p.m.\n❄️ At Resurgo Place: 10 a.m. – 5 p.m.\n❄️ At the Crossman Community Centre/Kay Arena: FREE PUBLIC SKATE from 2:30 p.m. to 4 p.m. ⛸️ \n  \n \n
URL:https://1039maxfm.com/event/polarfest-2026-activities-for-february-15th/
ATTACH;FMTTYPE=image/png:https://1039maxfm.com/wp-content/uploads/sites/8/2026/02/polarfest_logo_moncton_couleurs_370w.png
END:VEVENT
END:VCALENDAR