BEGIN:VCALENDAR
VERSION:2.0
PRODID:-//103.9 MAX FM - ECPv4.6.26//NONSGML v1.0//EN
CALSCALE:GREGORIAN
METHOD:PUBLISH
X-WR-CALNAME:103.9 MAX FM
X-ORIGINAL-URL:https://1039maxfm.com
X-WR-CALDESC:Events for 103.9 MAX FM
BEGIN:VEVENT
DTSTART;TZID=America/Halifax:20170228T170000
DTEND;TZID=America/Halifax:20170228T190000
DTSTAMP:20260425T135819
CREATED:20170217T132621Z
LAST-MODIFIED:20170217T132621Z
UID:2919-1488301200-1488308400@1039maxfm.com
SUMMARY:Pancake Supper
DESCRIPTION:There will be a pancake supper which includes sausages\, beans\, beverage and dessert at the St. James Anglican Church\, 101 Fairview Drive (Fairview and St. George Blvd) on Tuesday\, February 28th from 5-7pm. All are welcome and cost is $8 per adult and $3 for children 10 and under. \n
URL:https://1039maxfm.com/event/pancake-supper/
END:VEVENT
END:VCALENDAR