BEGIN:VCALENDAR
VERSION:2.0
PRODID:-//103.9 MAX FM - ECPv4.6.26//NONSGML v1.0//EN
CALSCALE:GREGORIAN
METHOD:PUBLISH
X-WR-CALNAME:103.9 MAX FM
X-ORIGINAL-URL:https://1039maxfm.com
X-WR-CALDESC:Events for 103.9 MAX FM
BEGIN:VEVENT
DTSTART;TZID=America/Halifax:20200125T080000
DTEND;TZID=America/Halifax:20200125T110000
DTSTAMP:20260424T022326
CREATED:20200121T181043Z
LAST-MODIFIED:20200121T181043Z
UID:10691-1579939200-1579950000@1039maxfm.com
SUMMARY:Pancake Breakfast
DESCRIPTION:There will be a pancake breakfast on Saturday\, January 25th from 8-11am at the Riverview Lion’s Hall\, 701 Coverdale Rd. Cost is $7 for Adults\, $5 for Children ages 5-12 and $20 for a Family of 4. In support of Multiple Sclerosis of Canada. \n
URL:https://1039maxfm.com/event/pancake-breakfast-4/
END:VEVENT
END:VCALENDAR