BEGIN:VCALENDAR
VERSION:2.0
PRODID:-//103.9 MAX FM - ECPv4.6.26//NONSGML v1.0//EN
CALSCALE:GREGORIAN
METHOD:PUBLISH
X-WR-CALNAME:103.9 MAX FM
X-ORIGINAL-URL:https://1039maxfm.com
X-WR-CALDESC:Events for 103.9 MAX FM
BEGIN:VEVENT
DTSTART;TZID=America/Halifax:20251025T170000
DTEND;TZID=America/Halifax:20251025T190000
DTSTAMP:20260421T162723
CREATED:20251007T124125Z
LAST-MODIFIED:20251007T124125Z
UID:19855-1761411600-1761418800@1039maxfm.com
SUMMARY:Paint\, Drink\, & Create - DIY Night with Tambayan Cafe
DESCRIPTION:\n\n\n\n\nEvent by Tambayan Cafe and Ethiimo Builds\n\n\n\n\n\n\n\n\n\n\n\n\n26 Trites Rd.\, Riverview\, NB\, Canada\n\n\n\n\n\n\n\n\n\nLet’s get crafty while sipping on drinks at the coolest DIY night in town – it’s time to unleash your inner Picasso! (Tax inclusive)\n\n\n\n
URL:https://1039maxfm.com/event/paint-drink-create-diy-night-with-tambayan-cafe/
ATTACH;FMTTYPE=image/jpeg:https://1039maxfm.com/wp-content/uploads/sites/8/2025/10/557104631_122151791528625633_6173073272481675371_n.jpg
END:VEVENT
END:VCALENDAR